BEGIN:VCALENDAR
VERSION:2.0
PRODID:-//Date iCal v2.14-dev//NONSGML kigkonsult.se iCalcreator 2.16.6//
METHOD:PUBLISH
X-WR-CALNAME;VALUE=TEXT:Greater Baltimore Cultural Alliance
BEGIN:VTIMEZONE
TZID:America/New_York
BEGIN:STANDARD
DTSTART:20161106T020000
TZOFFSETFROM:-0400
TZOFFSETTO:-0500
TZNAME:EST
END:STANDARD
BEGIN:DAYLIGHT
DTSTART:20160313T020000
TZOFFSETFROM:-0500
TZOFFSETTO:-0400
TZNAME:EDT
END:DAYLIGHT
END:VTIMEZONE
BEGIN:VEVENT
UID:calendar.8215.field_fc_date.0@culturefly.org
DTSTAMP:20260420T194900Z
ATTACH;FMTTYPE=image/jpeg:https://culturefly.org/sites/default/files/event-
 image/HoCoOpen%26LKITMailChimpBanner.jpg
CATEGORIES:,Exhibition
CREATED:20151218T185724Z
DESCRIPTION:/HoCo Open/ is a salon-style, non-juried exhibit showcasing th
 e talent of  local artists. Artists (aged 18 years and older) who live, w
 ork, or study in  Howard County are invited to bring one piece of origina
 l artwork completed in  the past two years to the drop-off on January 7 fr
 om 4:30-6:30 p.m. Artwork  will be accepted for the exhibit on a first-com
 e basis, one piece per artist,  until the gallery is full. This is a gre
 at opportunity for both emerging and  established local artists to partici
 pate in a gallery exhibit without the  stress of being juried in!
DTSTART;TZID=America/New_York:20160115T100000
DTEND;TZID=America/New_York:20160115T200000
EXDATE;TZID=America/New_York:20160118T100000
GEO:+39.292068;-76.804963
LAST-MODIFIED:20151223T142459Z
LOCATION:Howard County Center for the Arts, 8510 High Ridge Road, Ellicot
 t City, MD
RRULE:FREQ=WEEKLY;UNTIL=20160227T095959Z;INTERVAL=1;BYDAY=MO,TU,WE,TH,FR;WK
 ST=SU
SUMMARY:HoCo Open 2016
URL:http://hocoarts.org/exhibits.php
X-GBCA-NID:8215
END:VEVENT
END:VCALENDAR
