BEGIN:VCALENDAR
VERSION:2.0
PRODID:-//Date iCal v2.14-dev//NONSGML kigkonsult.se iCalcreator 2.16.6//
METHOD:PUBLISH
X-WR-CALNAME;VALUE=TEXT:Greater Baltimore Cultural Alliance
BEGIN:VTIMEZONE
TZID:America/New_York
BEGIN:STANDARD
DTSTART:20161106T020000
TZOFFSETFROM:-0400
TZOFFSETTO:-0500
TZNAME:EST
END:STANDARD
BEGIN:DAYLIGHT
DTSTART:20160313T020000
TZOFFSETFROM:-0500
TZOFFSETTO:-0400
TZNAME:EDT
END:DAYLIGHT
END:VTIMEZONE
BEGIN:VEVENT
UID:calendar.8087.field_fc_date.0@culturefly.org
DTSTAMP:20260419T231442Z
ATTACH;FMTTYPE=image/jpeg:https://culturefly.org/sites/default/files/event-
 image/12299352_1218599671488734_6275998332695263301_n.jpg
CATEGORIES:,,,,,Performance,Lectures/ Workshops
CREATED:20151130T180101Z
DESCRIPTION:After a standing-room-only Halloween concert, the Occasional S
 ymphony will  combine the arts of music and dance at the MASQUERADE. Insid
 e Hampden's  historically hip Church and Company, conductors Joshua Hong 
 and Joon Choi  invite the audience to dance to masterful waltzes composed 
 by Strauss,  Tchaikovsky, Berlioz, Ravel, Saint-Saens, Berg, WEbern\
 , and more including a  premiere written by OS alumnus Scott Lee. Audience
  members will enjoy  complimentary dance lessons, pastries, and drinks. 
 Get your mask, your  dancing shoes, and join the Occasional Symphony for
  an unforgettable evening!
DTSTART;TZID=America/New_York:20151211T200000
DTEND;TZID=America/New_York:20151211T220000
GEO:+39.332464;-76.635215
LAST-MODIFIED:20151210T152140Z
LOCATION:Church and Company, 3647 Falls Rd, Baltimore, MD
SUMMARY:The Occasional Symphony presents: MASQUERADE
URL:http://www.occasionalsymphony.org
X-GBCA-NID:8087
END:VEVENT
END:VCALENDAR
