BEGIN:VCALENDAR
VERSION:2.0
PRODID:-//Date iCal v2.14-dev//NONSGML kigkonsult.se iCalcreator 2.16.6//
METHOD:PUBLISH
X-WR-CALNAME;VALUE=TEXT:Greater Baltimore Cultural Alliance
BEGIN:VTIMEZONE
TZID:America/New_York
BEGIN:STANDARD
DTSTART:20151101T020000
TZOFFSETFROM:-0400
TZOFFSETTO:-0500
RDATE:20161106T020000
TZNAME:EST
END:STANDARD
BEGIN:DAYLIGHT
DTSTART:20160313T020000
TZOFFSETFROM:-0500
TZOFFSETTO:-0400
TZNAME:EDT
END:DAYLIGHT
END:VTIMEZONE
BEGIN:VEVENT
UID:calendar.6133.field_fc_date.0@culturefly.org
DTSTAMP:20260425T232423Z
ATTACH;FMTTYPE=image/jpeg:https://culturefly.org/sites/default/files/ForTha
 tWhichReturns_05_0.JPG
CATEGORIES:,,,,Lectures/ Workshops,,,,History & Heritage,,,,,P
 erformance,
CREATED:20150703T165242Z
DESCRIPTION:UNEXPECTED PLACES 4 UNEXPECTED AERIALS\n\n4 AERIAL PERFORMANCES
 , OVER 4 MONTHS, IN 4 URBAN SETTINGS\n\nCELEBRATING THE TEXTURE AND GEOG
 RAPHICAL STORIES OF BALTIMORE\n\nFree to the public\n\nFeaturing\n\nMara N
 eimanis\n\nwith Mark Harding, ellen cherry, & the Sculptures of Tim Scof
 ield
DTSTART;TZID=America/New_York:20150815T220000
DTEND;TZID=America/New_York:20150815T223000
GEO:+39.286736;-76.571783
LAST-MODIFIED:20160301T060001Z
LOCATION:Creative Alliance at The Patterson, 3134 Eastern Avenue, Baltimo
 re, MD
SUMMARY:Unexpected Places 4 Unexpected Aerials
URL:www.inflighttheater.com
X-GBCA-NID:6133
END:VEVENT
BEGIN:VEVENT
UID:calendar.6133.field_fc_date.0@culturefly.org
DTSTAMP:20260425T232423Z
ATTACH;FMTTYPE=image/jpeg:https://culturefly.org/sites/default/files/ForTha
 tWhichReturns_05_0.JPG
CATEGORIES:,,,,Lectures/ Workshops,,,,History & Heritage,,,,,P
 erformance,
CREATED:20150703T165242Z
DESCRIPTION:UNEXPECTED PLACES 4 UNEXPECTED AERIALS\n\n4 AERIAL PERFORMANCES
 , OVER 4 MONTHS, IN 4 URBAN SETTINGS\n\nCELEBRATING THE TEXTURE AND GEOG
 RAPHICAL STORIES OF BALTIMORE\n\nFree to the public\n\nFeaturing\n\nMara N
 eimanis\n\nwith Mark Harding, ellen cherry, & the Sculptures of Tim Scof
 ield
DTSTART;TZID=America/New_York:20150919T193000
DTEND;TZID=America/New_York:20150919T200000
GEO:+39.286736;-76.571783
LAST-MODIFIED:20160301T060001Z
LOCATION:Creative Alliance at The Patterson, 3134 Eastern Avenue, Baltimo
 re, MD
SUMMARY:Unexpected Places 4 Unexpected Aerials
URL:www.inflighttheater.com
X-GBCA-NID:6133
END:VEVENT
BEGIN:VEVENT
UID:calendar.6133.field_fc_date.0@culturefly.org
DTSTAMP:20260425T232423Z
ATTACH;FMTTYPE=image/jpeg:https://culturefly.org/sites/default/files/ForTha
 tWhichReturns_05_0.JPG
CATEGORIES:,,,,Lectures/ Workshops,,,,History & Heritage,,,,,P
 erformance,
CREATED:20150703T165242Z
DESCRIPTION:UNEXPECTED PLACES 4 UNEXPECTED AERIALS\n\n4 AERIAL PERFORMANCES
 , OVER 4 MONTHS, IN 4 URBAN SETTINGS\n\nCELEBRATING THE TEXTURE AND GEOG
 RAPHICAL STORIES OF BALTIMORE\n\nFree to the public\n\nFeaturing\n\nMara N
 eimanis\n\nwith Mark Harding, ellen cherry, & the Sculptures of Tim Scof
 ield
DTSTART;TZID=America/New_York:20151010T140000
DTEND;TZID=America/New_York:20151010T143000
GEO:+39.286736;-76.571783
LAST-MODIFIED:20160301T060001Z
LOCATION:Creative Alliance at The Patterson, 3134 Eastern Avenue, Baltimo
 re, MD
SUMMARY:Unexpected Places 4 Unexpected Aerials
URL:www.inflighttheater.com
X-GBCA-NID:6133
END:VEVENT
BEGIN:VEVENT
UID:calendar.6133.field_fc_date.0@culturefly.org
DTSTAMP:20260425T232423Z
ATTACH;FMTTYPE=image/jpeg:https://culturefly.org/sites/default/files/ForTha
 tWhichReturns_05_0.JPG
CATEGORIES:,,,,Lectures/ Workshops,,,,History & Heritage,,,,,P
 erformance,
CREATED:20150703T165242Z
DESCRIPTION:UNEXPECTED PLACES 4 UNEXPECTED AERIALS\n\n4 AERIAL PERFORMANCES
 , OVER 4 MONTHS, IN 4 URBAN SETTINGS\n\nCELEBRATING THE TEXTURE AND GEOG
 RAPHICAL STORIES OF BALTIMORE\n\nFree to the public\n\nFeaturing\n\nMara N
 eimanis\n\nwith Mark Harding, ellen cherry, & the Sculptures of Tim Scof
 ield
DTSTART;TZID=America/New_York:20151010T180000
DTEND;TZID=America/New_York:20151010T183000
GEO:+39.286736;-76.571783
LAST-MODIFIED:20160301T060001Z
LOCATION:Creative Alliance at The Patterson, 3134 Eastern Avenue, Baltimo
 re, MD
SUMMARY:Unexpected Places 4 Unexpected Aerials
URL:www.inflighttheater.com
X-GBCA-NID:6133
END:VEVENT
BEGIN:VEVENT
UID:calendar.6133.field_fc_date.0@culturefly.org
DTSTAMP:20260425T232423Z
ATTACH;FMTTYPE=image/jpeg:https://culturefly.org/sites/default/files/ForTha
 tWhichReturns_05_0.JPG
CATEGORIES:,,,,Lectures/ Workshops,,,,History & Heritage,,,,,P
 erformance,
CREATED:20150703T165242Z
DESCRIPTION:UNEXPECTED PLACES 4 UNEXPECTED AERIALS\n\n4 AERIAL PERFORMANCES
 , OVER 4 MONTHS, IN 4 URBAN SETTINGS\n\nCELEBRATING THE TEXTURE AND GEOG
 RAPHICAL STORIES OF BALTIMORE\n\nFree to the public\n\nFeaturing\n\nMara N
 eimanis\n\nwith Mark Harding, ellen cherry, & the Sculptures of Tim Scof
 ield
DTSTART;TZID=America/New_York:20151011T140000
DTEND;TZID=America/New_York:20151011T143000
GEO:+39.286736;-76.571783
LAST-MODIFIED:20160301T060001Z
LOCATION:Creative Alliance at The Patterson, 3134 Eastern Avenue, Baltimo
 re, MD
SUMMARY:Unexpected Places 4 Unexpected Aerials
URL:www.inflighttheater.com
X-GBCA-NID:6133
END:VEVENT
BEGIN:VEVENT
UID:calendar.6133.field_fc_date.0@culturefly.org
DTSTAMP:20260425T232423Z
ATTACH;FMTTYPE=image/jpeg:https://culturefly.org/sites/default/files/ForTha
 tWhichReturns_05_0.JPG
CATEGORIES:,,,,Lectures/ Workshops,,,,History & Heritage,,,,,P
 erformance,
CREATED:20150703T165242Z
DESCRIPTION:UNEXPECTED PLACES 4 UNEXPECTED AERIALS\n\n4 AERIAL PERFORMANCES
 , OVER 4 MONTHS, IN 4 URBAN SETTINGS\n\nCELEBRATING THE TEXTURE AND GEOG
 RAPHICAL STORIES OF BALTIMORE\n\nFree to the public\n\nFeaturing\n\nMara N
 eimanis\n\nwith Mark Harding, ellen cherry, & the Sculptures of Tim Scof
 ield
DTSTART;TZID=America/New_York:20151011T180000
DTEND;TZID=America/New_York:20151011T183000
GEO:+39.286736;-76.571783
LAST-MODIFIED:20160301T060001Z
LOCATION:Creative Alliance at The Patterson, 3134 Eastern Avenue, Baltimo
 re, MD
SUMMARY:Unexpected Places 4 Unexpected Aerials
URL:www.inflighttheater.com
X-GBCA-NID:6133
END:VEVENT
BEGIN:VEVENT
UID:calendar.6133.field_fc_date.0@culturefly.org
DTSTAMP:20260425T232423Z
ATTACH;FMTTYPE=image/jpeg:https://culturefly.org/sites/default/files/ForTha
 tWhichReturns_05_0.JPG
CATEGORIES:,,,,Lectures/ Workshops,,,,History & Heritage,,,,,P
 erformance,
CREATED:20150703T165242Z
DESCRIPTION:UNEXPECTED PLACES 4 UNEXPECTED AERIALS\n\n4 AERIAL PERFORMANCES
 , OVER 4 MONTHS, IN 4 URBAN SETTINGS\n\nCELEBRATING THE TEXTURE AND GEOG
 RAPHICAL STORIES OF BALTIMORE\n\nFree to the public\n\nFeaturing\n\nMara N
 eimanis\n\nwith Mark Harding, ellen cherry, & the Sculptures of Tim Scof
 ield
DTSTART;TZID=America/New_York:20151119T180000
DTEND;TZID=America/New_York:20151119T200000
GEO:+39.286736;-76.571783
LAST-MODIFIED:20160301T060001Z
LOCATION:Creative Alliance at The Patterson, 3134 Eastern Avenue, Baltimo
 re, MD
SUMMARY:Unexpected Places 4 Unexpected Aerials
URL:www.inflighttheater.com
X-GBCA-NID:6133
END:VEVENT
END:VCALENDAR
