BEGIN:VCALENDAR
VERSION:2.0
PRODID:-//Date iCal v2.14-dev//NONSGML kigkonsult.se iCalcreator 2.16.6//
METHOD:PUBLISH
X-WR-CALNAME;VALUE=TEXT:Greater Baltimore Cultural Alliance
BEGIN:VTIMEZONE
TZID:America/New_York
BEGIN:STANDARD
DTSTART:20151101T020000
TZOFFSETFROM:-0400
TZOFFSETTO:-0500
TZNAME:EST
END:STANDARD
BEGIN:DAYLIGHT
DTSTART:20160313T020000
TZOFFSETFROM:-0500
TZOFFSETTO:-0400
TZNAME:EDT
END:DAYLIGHT
END:VTIMEZONE
BEGIN:VEVENT
UID:calendar.5665.field_fc_date.0@culturefly.org
DTSTAMP:20260425T234005Z
ATTACH;FMTTYPE=image/jpeg:https://culturefly.org/sites/default/files/event-
 image/Ahi%20Tacos_0214.jpg
CATEGORIES:,
CREATED:20150512T190723Z
DESCRIPTION:*Champps* in Columbia is teaming up with the *Howard County Aut
 ism Society  *to support individuals affected by autism. *Champps**,* loc
 ated at 10300  Little Patuxent Parkway, will host a celebration to benefi
 t the *Howard  County Autism Society *on *Wednesday, June 3, 2015*.
DTSTART;TZID=America/New_York:20150603T180000
DTEND;TZID=America/New_York:20150603T210000
GEO:+39.216329;-76.860202
LAST-MODIFIED:20150513T145844Z
LOCATION:Champps, 10300 Little Patuxent Pkwy, Columbia, MD
SUMMARY:Champps in Columbia, MD to Host Benefit for the Howard County Auti
 sm Society  on Wednesday, June 3, 2015
URL:http://champps.com/locations/columbia/
X-GBCA-NID:5665
END:VEVENT
END:VCALENDAR
