BEGIN:VCALENDAR
VERSION:2.0
PRODID:-//Date iCal v2.14-dev//NONSGML kigkonsult.se iCalcreator 2.16.6//
METHOD:PUBLISH
X-WR-CALNAME;VALUE=TEXT:Greater Baltimore Cultural Alliance
BEGIN:VTIMEZONE
TZID:America/New_York
BEGIN:STANDARD
DTSTART:20261101T020000
TZOFFSETFROM:-0400
TZOFFSETTO:-0500
TZNAME:EST
END:STANDARD
BEGIN:DAYLIGHT
DTSTART:20270314T020000
TZOFFSETFROM:-0500
TZOFFSETTO:-0400
TZNAME:EDT
END:DAYLIGHT
END:VTIMEZONE
BEGIN:VEVENT
UID:calendar.40472.field_fc_date.0@culturefly.org
DTSTAMP:20260422T032826Z
ATTACH;FMTTYPE=image/png:https://culturefly.org/sites/default/files/event-i
 mage/MAPAPA%20Event%20Photo_0.png
CATEGORIES:Other
CREATED:20260421T154131Z
DESCRIPTION:The B&O Railroad Museum welcomes the Mid-Atlantic Plein Air Pai
 nters  Association from May 16–24. Watch artists create live on-site throu
 ghout  the week as they bring landscapes to life in real time. The event c
 oncludes  with a presentation ceremony on Sunday, May 24 at 1 PM, where 
 completed works  are unveiled and select pieces are available for purchase
 . Free with museum  admission ($12–$20); B&O Members free.
DTSTART;TZID=America/New_York:20260516T100000
DTEND;TZID=America/New_York:20260516T160000
GEO:+39.285422;-76.632745
LAST-MODIFIED:20260421T161643Z
LOCATION:B&O Railroad Museum, 901 W. Pratt Street, Baltimore, MD
RRULE:FREQ=WEEKLY;UNTIL=20260525T075959Z;INTERVAL=1;WKST=SU
SUMMARY:Art in Motion: Mid-Atlantic Plein Air Painters Association
URL:https://www.borail.org/events/the-mid-atlantic-plein-air-painters/
X-GBCA-NID:40472
END:VEVENT
END:VCALENDAR
