BEGIN:VCALENDAR
VERSION:2.0
PRODID:-//Date iCal v2.14-dev//NONSGML kigkonsult.se iCalcreator 2.16.6//
METHOD:PUBLISH
X-WR-CALNAME;VALUE=TEXT:Greater Baltimore Cultural Alliance
BEGIN:VTIMEZONE
TZID:America/New_York
BEGIN:STANDARD
DTSTART:20261101T020000
TZOFFSETFROM:-0400
TZOFFSETTO:-0500
TZNAME:EST
END:STANDARD
BEGIN:DAYLIGHT
DTSTART:20270314T020000
TZOFFSETFROM:-0500
TZOFFSETTO:-0400
TZNAME:EDT
END:DAYLIGHT
END:VTIMEZONE
BEGIN:VEVENT
UID:calendar.40467.field_fc_date.0@culturefly.org
DTSTAMP:20260421T201433Z
ATTACH;FMTTYPE=image/png:https://culturefly.org/sites/default/files/event-i
 mage/Annual-Seconds-Sale-Preview-Party-1-768x768.png
CATEGORIES:Activities
CREATED:20260420T184017Z
DESCRIPTION:Support Baltimore Clayworks’ educational programs, artist resi
 dencies, and  community partnerships by purchasing ceramic seconds genero
 usly donated by  artists from across our region. Every piece you take home
  helps us sustain a  welcoming, creative space where all people can exper
 ience the joy of clay.\n\nFriday, June 12, 2026 • 6:00 – 8:00 pm Tickete
 d event: $45 Members / $50 Non-Members / $50 at the door\n\nFood, fun, a
 nd first dibs. Enjoy refreshments while you browse hundreds of  beautifull
 y crafted seconds at incredible prices.
DTSTART;TZID=America/New_York:20260612T180000
DTEND;TZID=America/New_York:20260612T200000
GEO:+39.367622;-76.653195
LAST-MODIFIED:20260421T161643Z
LOCATION:Baltimore Clayworks, 5707 Smith Avenue, Baltimore, MD
SUMMARY:Annual Pottery Seconds Sale & Preview Party
URL:https://baltimoreclayworks.org/event/annual-pottery-seconds-sale-previe
 w-party/
X-GBCA-NID:40467
END:VEVENT
END:VCALENDAR
