BEGIN:VCALENDAR
VERSION:2.0
PRODID:-//Date iCal v2.14-dev//NONSGML kigkonsult.se iCalcreator 2.16.6//
METHOD:PUBLISH
X-WR-CALNAME;VALUE=TEXT:Greater Baltimore Cultural Alliance
BEGIN:VTIMEZONE
TZID:America/New_York
BEGIN:STANDARD
DTSTART:20261101T020000
TZOFFSETFROM:-0400
TZOFFSETTO:-0500
TZNAME:EST
END:STANDARD
BEGIN:DAYLIGHT
DTSTART:20270314T020000
TZOFFSETFROM:-0500
TZOFFSETTO:-0400
TZNAME:EDT
END:DAYLIGHT
END:VTIMEZONE
BEGIN:VEVENT
UID:calendar.40458.field_fc_date.0@culturefly.org
DTSTAMP:20260421T194739Z
ATTACH;FMTTYPE=image/jpeg:https://culturefly.org/sites/default/files/event-
 image/IMG_0923.jpeg
CATEGORIES:Exhibition,Performance,Activities,Nightlife,Other,GBCA Even
 ts
CREATED:20260417T225300Z
DESCRIPTION:Baltimore's hit character show Who Are These People returns to 
 The BIG  Theater on April 24! Catch the lineup of brand new characters wri
 tten and  performed by the city's most hilarious comics. Plus, special gu
 est Dickolas  Cage graces the stage!\n\nDirected by Hannah Alden Jeffrey
DTSTART;TZID=America/New_York:20260424T210000
DTEND;TZID=America/New_York:20260424T220000
LAST-MODIFIED:20260421T161646Z
LOCATION:Baltimore Improv Group, 1727 North Charles Street, Baltimore, M
 D
SUMMARY:Who Are These People: An Evening of Hilarious Characters!
URL:https://www.bigimprov.org/event-details-registration/who-are-these-peop
 le-5
X-GBCA-NID:40458
END:VEVENT
END:VCALENDAR
