BEGIN:VCALENDAR
VERSION:2.0
PRODID:-//Date iCal v2.14-dev//NONSGML kigkonsult.se iCalcreator 2.16.6//
METHOD:PUBLISH
X-WR-CALNAME;VALUE=TEXT:Greater Baltimore Cultural Alliance
BEGIN:VTIMEZONE
TZID:America/New_York
BEGIN:STANDARD
DTSTART:20261101T020000
TZOFFSETFROM:-0400
TZOFFSETTO:-0500
TZNAME:EST
END:STANDARD
BEGIN:DAYLIGHT
DTSTART:20270314T020000
TZOFFSETFROM:-0500
TZOFFSETTO:-0400
TZNAME:EDT
END:DAYLIGHT
END:VTIMEZONE
BEGIN:VEVENT
UID:calendar.40456.field_fc_date.0@culturefly.org
DTSTAMP:20260421T184505Z
ATTACH;FMTTYPE=image/png:https://culturefly.org/sites/default/files/event-i
 mage/FazaFam%20Vertical%20Fliers%20%281%29.png
CATEGORIES:Activities
CREATED:20260417T173502Z
DESCRIPTION:Join Dance & Bmore for our FazaFam Music & Movement for Learnin
 g to help  families learn, move, and grow together through music, dance
 , and play at the  29th St Community Center.\n\nAdmission: FREE\n\nAges: 
 Families with children/toddlers\n\nQuestions? Email, operations.danceandb
 more@gmail.com [1]\n\n\n[1] mailto:operations.danceandbmore@gmail.com
DTSTART;TZID=America/New_York:20260418T100000
DTEND;TZID=America/New_York:20260418T110000
GEO:+39.323372;-76.613198
LAST-MODIFIED:20260421T161646Z
LOCATION:29th Street Community Center, 300 East 29th Street, Baltimore, 
 MD
SUMMARY:FazaFam Music & Movement for Learning with Dance & Bmore
URL;TYPE=URI:https://culturefly.org/calendar/event/40456/fazafam-music-move
 ment-learning-dance-bmore
X-GBCA-NID:40456
END:VEVENT
BEGIN:VEVENT
UID:calendar.40456.field_fc_date.0@culturefly.org
DTSTAMP:20260421T184505Z
ATTACH;FMTTYPE=image/png:https://culturefly.org/sites/default/files/event-i
 mage/FazaFam%20Vertical%20Fliers%20%281%29.png
CATEGORIES:Activities
CREATED:20260417T173502Z
DESCRIPTION:Join Dance & Bmore for our FazaFam Music & Movement for Learnin
 g to help  families learn, move, and grow together through music, dance
 , and play at the  29th St Community Center.\n\nAdmission: FREE\n\nAges: 
 Families with children/toddlers\n\nQuestions? Email, operations.danceandb
 more@gmail.com [1]\n\n\n[1] mailto:operations.danceandbmore@gmail.com
DTSTART;TZID=America/New_York:20260425T100000
DTEND;TZID=America/New_York:20260425T110000
GEO:+39.323372;-76.613198
LAST-MODIFIED:20260421T161646Z
LOCATION:29th Street Community Center, 300 East 29th Street, Baltimore, 
 MD
SUMMARY:FazaFam Music & Movement for Learning with Dance & Bmore
URL;TYPE=URI:https://culturefly.org/calendar/event/40456/fazafam-music-move
 ment-learning-dance-bmore
X-GBCA-NID:40456
END:VEVENT
END:VCALENDAR
