BEGIN:VCALENDAR
VERSION:2.0
PRODID:-//Date iCal v2.14-dev//NONSGML kigkonsult.se iCalcreator 2.16.6//
METHOD:PUBLISH
X-WR-CALNAME;VALUE=TEXT:Greater Baltimore Cultural Alliance
BEGIN:VTIMEZONE
TZID:America/New_York
BEGIN:STANDARD
DTSTART:20261101T020000
TZOFFSETFROM:-0400
TZOFFSETTO:-0500
TZNAME:EST
END:STANDARD
BEGIN:DAYLIGHT
DTSTART:20270314T020000
TZOFFSETFROM:-0500
TZOFFSETTO:-0400
TZNAME:EDT
END:DAYLIGHT
END:VTIMEZONE
BEGIN:VEVENT
UID:calendar.40452.field_fc_date.0@culturefly.org
DTSTAMP:20260421T185349Z
ATTACH;FMTTYPE=image/png:https://culturefly.org/sites/default/files/event-i
 mage/1_23.png
CATEGORIES:Other
CREATED:20260417T112521Z
DESCRIPTION:An indie dance party for the ones who still romanticize a scrat
 ched iPod,  American Spirits, and a blurry night soundtracked by bloghou
 se and post-punk  revival. All Your Friends is at Baltimore Soundstage on 
 15 May 2026, bringing  the sweat, synths, and nostalgia of the early 20
 10’s house party.
DTSTART;TZID=America/New_York:20260515T210000
DTEND;TZID=America/New_York:20260515T230000
GEO:+39.287583;-76.607432
LAST-MODIFIED:20260421T161646Z
LOCATION:Baltimore Soundstage, 124 Market Place, Baltimore, MD
SUMMARY:All Your Friends
URL:https://eventvesta.com/events/142918/t/tickets
X-GBCA-NID:40452
END:VEVENT
END:VCALENDAR
