BEGIN:VCALENDAR
VERSION:2.0
PRODID:-//Date iCal v2.14-dev//NONSGML kigkonsult.se iCalcreator 2.16.6//
METHOD:PUBLISH
X-WR-CALNAME;VALUE=TEXT:Greater Baltimore Cultural Alliance
BEGIN:VTIMEZONE
TZID:America/New_York
BEGIN:STANDARD
DTSTART:20261101T020000
TZOFFSETFROM:-0400
TZOFFSETTO:-0500
TZNAME:EST
END:STANDARD
BEGIN:DAYLIGHT
DTSTART:20270314T020000
TZOFFSETFROM:-0500
TZOFFSETTO:-0400
TZNAME:EDT
END:DAYLIGHT
END:VTIMEZONE
BEGIN:VEVENT
UID:calendar.40443.field_fc_date.0@culturefly.org
DTSTAMP:20260422T013220Z
ATTACH;FMTTYPE=image/png:https://culturefly.org/sites/default/files/event-i
 mage/Bmore%20SOW.png
CATEGORIES:Lectures/ Workshops,Activities,Outdoors
CREATED:20260415T122821Z
DESCRIPTION:Join the American Diabetes Association® (ADA) along with your f
 riends,  family, and colleagues as we walk in support of people living w
 ith diabetes.  Step Out® Walk is the ADA’s premier walking fundraising eve
 nt that creates  a sense of unity and shared purpose in the fight to end d
 iabetes. This event  increases awareness, connects communities, contribu
 tes to diabetes prevention  and management, and supports the ADA’s vision
  of life free of diabetes and  all its burdens.
DTSTART;VALUE=DATE:20260509
DTEND;VALUE=DATE:20260510
LAST-MODIFIED:20260421T161648Z
LOCATION:Harbor Point Central Plaza, 1310 Point Street, Baltimore, MD
SUMMARY:2026 Step Out Walk: Baltimore
URL:https://stepout.diabetes.org/sowbaltimore
X-GBCA-NID:40443
END:VEVENT
END:VCALENDAR
