BEGIN:VCALENDAR
VERSION:2.0
PRODID:-//Date iCal v2.14-dev//NONSGML kigkonsult.se iCalcreator 2.16.6//
METHOD:PUBLISH
X-WR-CALNAME;VALUE=TEXT:Greater Baltimore Cultural Alliance
BEGIN:VTIMEZONE
TZID:America/New_York
BEGIN:STANDARD
DTSTART:20261101T020000
TZOFFSETFROM:-0400
TZOFFSETTO:-0500
TZNAME:EST
END:STANDARD
BEGIN:DAYLIGHT
DTSTART:20270314T020000
TZOFFSETFROM:-0500
TZOFFSETTO:-0400
TZNAME:EDT
END:DAYLIGHT
END:VTIMEZONE
BEGIN:VEVENT
UID:calendar.40430.field_fc_date.0@culturefly.org
DTSTAMP:20260420T163435Z
ATTACH;FMTTYPE=image/png:https://culturefly.org/sites/default/files/event-i
 mage/2026_DirectorWorkshop_FBCover-20260401-110014.png
CATEGORIES:Performance,Lectures/ Workshops,Activities,Professional Devel
 opment
CREATED:20260413T161232Z
DESCRIPTION:DIRECTING FOR COMMUNITY THEATRE In-Person Workshop Vagabond Pla
 yers 806 S. Broadway Baltimore, MD 21215\n\nREGISTRATION REQUIRED - visit
  our website to secure your spot!\n\nDo you want to learn more about movin
 g into the director seat or what it  takes to bring a production to life? 
 Join Steve Goldklang, who has been directing for Vagabond Players and in 
  other community theatre settings for over thirty-five years, for a 3-hou
 r  workshop designed for new directors that will cover the following key t
 opic  areas:
DTSTART;TZID=America/New_York:20260418T130000
DTEND;TZID=America/New_York:20260418T160000
LAST-MODIFIED:20260414T170813Z
LOCATION:Vagabond Players, 806 S Broadway, Baltimore, MD
SUMMARY:FREE DIrecting Workshop at Vagabond Players
URL:https://vagabondplayers.org/news/2026/04/01/free-director-workshop-2026
X-GBCA-NID:40430
END:VEVENT
END:VCALENDAR
