BEGIN:VCALENDAR
VERSION:2.0
PRODID:-//Date iCal v2.14-dev//NONSGML kigkonsult.se iCalcreator 2.16.6//
METHOD:PUBLISH
X-WR-CALNAME;VALUE=TEXT:Greater Baltimore Cultural Alliance
BEGIN:VTIMEZONE
TZID:America/New_York
BEGIN:STANDARD
DTSTART:20261101T020000
TZOFFSETFROM:-0400
TZOFFSETTO:-0500
TZNAME:EST
END:STANDARD
BEGIN:DAYLIGHT
DTSTART:20270314T020000
TZOFFSETFROM:-0500
TZOFFSETTO:-0400
TZNAME:EDT
END:DAYLIGHT
END:VTIMEZONE
BEGIN:VEVENT
UID:calendar.40429.field_fc_date.0@culturefly.org
DTSTAMP:20260421T212737Z
ATTACH;FMTTYPE=image/jpeg:https://culturefly.org/sites/default/files/event-
 image/Javier%20Nero_11.jpg
CATEGORIES:Performance,Nightlife
CREATED:20260410T234757Z
DESCRIPTION:The Javier Nero Jazz Orchestra continues their exceptional mont
 hly series at  An die Musik Live! Two shows at 7:30pm and 9pm!\n\nThis 18-
 piece powerhouse delivers a thrilling blend of original compositions  and 
 fresh takes on jazz standards. Infused with influences from jazz, blues,
   funk, Latin, and world music, their performance is as captivating as 
 it is  diverse.\n\nThis is an extraordinary musical journey you won’t want
  to miss.\n\nSAXOPHONES Dan Andrews Daniel Dickinson Andrew Kreitner Grant
  Langford Nii Akwei Adoteye
DTSTART;TZID=America/New_York:20260423T193000
DTEND;TZID=America/New_York:20260423T210000
LAST-MODIFIED:20260414T170819Z
LOCATION:An Die Musik Live, 409 North Charles Street Second Floor, Baltim
 ore, MD
SUMMARY:Javier Nero Jazz Orchestra
URL:https://www.instantseats.com/?fuseaction=home.artist&VenueID=321&artist
 id=37454
X-GBCA-NID:40429
END:VEVENT
BEGIN:VEVENT
UID:calendar.40429.field_fc_date.0@culturefly.org
DTSTAMP:20260421T212737Z
ATTACH;FMTTYPE=image/jpeg:https://culturefly.org/sites/default/files/event-
 image/Javier%20Nero_11.jpg
CATEGORIES:Performance,Nightlife
CREATED:20260410T234757Z
DESCRIPTION:The Javier Nero Jazz Orchestra continues their exceptional mont
 hly series at  An die Musik Live! Two shows at 7:30pm and 9pm!\n\nThis 18-
 piece powerhouse delivers a thrilling blend of original compositions  and 
 fresh takes on jazz standards. Infused with influences from jazz, blues,
   funk, Latin, and world music, their performance is as captivating as 
 it is  diverse.\n\nThis is an extraordinary musical journey you won’t want
  to miss.\n\nSAXOPHONES Dan Andrews Daniel Dickinson Andrew Kreitner Grant
  Langford Nii Akwei Adoteye
DTSTART;TZID=America/New_York:20260423T210000
DTEND;TZID=America/New_York:20260423T223000
LAST-MODIFIED:20260414T170819Z
LOCATION:An Die Musik Live, 409 North Charles Street Second Floor, Baltim
 ore, MD
SUMMARY:Javier Nero Jazz Orchestra
URL:https://www.instantseats.com/?fuseaction=home.artist&VenueID=321&artist
 id=37454
X-GBCA-NID:40429
END:VEVENT
END:VCALENDAR
