BEGIN:VCALENDAR
VERSION:2.0
PRODID:-//Date iCal v2.14-dev//NONSGML kigkonsult.se iCalcreator 2.16.6//
METHOD:PUBLISH
X-WR-CALNAME;VALUE=TEXT:Greater Baltimore Cultural Alliance
BEGIN:VTIMEZONE
TZID:America/New_York
BEGIN:STANDARD
DTSTART:20261101T020000
TZOFFSETFROM:-0400
TZOFFSETTO:-0500
TZNAME:EST
END:STANDARD
BEGIN:DAYLIGHT
DTSTART:20270314T020000
TZOFFSETFROM:-0500
TZOFFSETTO:-0400
TZNAME:EDT
END:DAYLIGHT
END:VTIMEZONE
BEGIN:VEVENT
UID:calendar.40427.field_fc_date.0@culturefly.org
DTSTAMP:20260421T121336Z
ATTACH;FMTTYPE=image/png:https://culturefly.org/sites/default/files/event-i
 mage/300X250.png
CATEGORIES:Exhibition
CREATED:20260410T222013Z
DESCRIPTION:*Art with a Heart* [1] invites the community to its annual exhi
 bition. Guests  will find a wide range of styles and mediums, including p
 aintings, ceramics,  textiles, photography, mosaics and sculptures mad
 e by AWAH volunteers, staff,  teachers and interns.\n\nProceeds from all
  purchases will support the individual artists and the  nonprofit overall.
  Admission is free and guests can enjoy complimentary hors  d’oeuvres, be
 er, wine and non-alcoholic beverages while viewing the art.  RSVPs are we
 lcome but not required.\n\n\n[1] http://www.artwithaheart.net
DTSTART;TZID=America/New_York:20260517T140000
DTEND;TZID=America/New_York:20260517T160000
GEO:+39.328946;-76.638383
LAST-MODIFIED:20260414T170819Z
LOCATION:Art With A Heart, 1104 W. 36th St., Baltimore, MD
SUMMARY:Art with a Heart’s 2026 Art Show & Sale
URL:https://www.artwithaheart.net
X-GBCA-NID:40427
END:VEVENT
END:VCALENDAR
