BEGIN:VCALENDAR
VERSION:2.0
PRODID:-//Date iCal v2.14-dev//NONSGML kigkonsult.se iCalcreator 2.16.6//
METHOD:PUBLISH
X-WR-CALNAME;VALUE=TEXT:Greater Baltimore Cultural Alliance
BEGIN:VTIMEZONE
TZID:America/New_York
BEGIN:STANDARD
DTSTART:20261101T020000
TZOFFSETFROM:-0400
TZOFFSETTO:-0500
TZNAME:EST
END:STANDARD
BEGIN:DAYLIGHT
DTSTART:20270314T020000
TZOFFSETFROM:-0500
TZOFFSETTO:-0400
TZNAME:EDT
END:DAYLIGHT
END:VTIMEZONE
BEGIN:VEVENT
UID:calendar.40423.field_fc_date.0@culturefly.org
DTSTAMP:20260426T042126Z
ATTACH;FMTTYPE=image/png:https://culturefly.org/sites/default/files/event-i
 mage/bath%20sallts.png
CATEGORIES:Performance
CREATED:20260410T175528Z
DESCRIPTION:Composer-performer David Carlton Adams brings a stacked *aftern
 oon of new  music* to Le Mondo, from microtonal electronics to experiment
 al rock.\n\nOpening with experimental rock from *Helectrons *(@helectrons)
  Featuring  Arika Casebolt, Ruby Fulton, Bonnie Lander and Vid Smooke.\n
 \nDebuting *Break on Through *for flute, bassoon, and prepared cello. Fe
 aturing  Jack King, flute; Soumili Mukherjee, bassoon; Robert Karpay,
  cello.
DTSTART;TZID=America/New_York:20260426T143000
DTEND;TZID=America/New_York:20260426T170000
LAST-MODIFIED:20260414T170819Z
LOCATION:Le Mondo, 406 North Howard Street, Baltimore, MD
SUMMARY:Bath SALLTS
URL:https://www.lemondo.org/events/music-bath-sallts-2026-04-26-14-30
X-GBCA-NID:40423
END:VEVENT
END:VCALENDAR
