BEGIN:VCALENDAR
VERSION:2.0
PRODID:-//Date iCal v2.14-dev//NONSGML kigkonsult.se iCalcreator 2.16.6//
METHOD:PUBLISH
X-WR-CALNAME;VALUE=TEXT:Greater Baltimore Cultural Alliance
BEGIN:VTIMEZONE
TZID:America/New_York
BEGIN:STANDARD
DTSTART:20261101T020000
TZOFFSETFROM:-0400
TZOFFSETTO:-0500
TZNAME:EST
END:STANDARD
BEGIN:DAYLIGHT
DTSTART:20270314T020000
TZOFFSETFROM:-0500
TZOFFSETTO:-0400
TZNAME:EDT
END:DAYLIGHT
END:VTIMEZONE
BEGIN:VEVENT
UID:calendar.40406.field_fc_date.0@culturefly.org
DTSTAMP:20260419T163025Z
ATTACH;FMTTYPE=image/png:https://culturefly.org/sites/default/files/event-i
 mage/Mother%27s%20Day%20Workshop-2.png
CATEGORIES:Lectures/ Workshops,Activities
CREATED:20260409T004838Z
DESCRIPTION:Highwire Improv has a Mother's Day event you will never forget 
 - food,  laughter, and connection all in one place!\n\nThis special even
 t aimed at mothers and children (whatever that means to you,  chosen fami
 ly very welcome) features food, and an improv workshop focused on  lighth
 earted fun! We have everything to make this day memorable right in our  co
 zy theatre space.
DTSTART;TZID=America/New_York:20260510T110000
DTEND;TZID=America/New_York:20260510T130000
LAST-MODIFIED:20260414T170822Z
LOCATION:Highwire Improv, 400 S. Conkling Street, Baltimore, MD
SUMMARY:Mom and You! Mother's Day Improv and Brunch
URL:https://www.highwireimprov.com
X-GBCA-NID:40406
END:VEVENT
BEGIN:VEVENT
UID:calendar.40406.field_fc_date.0@culturefly.org
DTSTAMP:20260419T163025Z
ATTACH;FMTTYPE=image/png:https://culturefly.org/sites/default/files/event-i
 mage/Mother%27s%20Day%20Workshop-2.png
CATEGORIES:Lectures/ Workshops,Activities
CREATED:20260409T004838Z
DESCRIPTION:Highwire Improv has a Mother's Day event you will never forget 
 - food,  laughter, and connection all in one place!\n\nThis special even
 t aimed at mothers and children (whatever that means to you,  chosen fami
 ly very welcome) features food, and an improv workshop focused on  lighth
 earted fun! We have everything to make this day memorable right in our  co
 zy theatre space.
DTSTART;TZID=America/New_York:20260510T140000
DTEND;TZID=America/New_York:20260510T160000
LAST-MODIFIED:20260414T170822Z
LOCATION:Highwire Improv, 400 S. Conkling Street, Baltimore, MD
SUMMARY:Mom and You! Mother's Day Improv and Brunch
URL:https://www.highwireimprov.com
X-GBCA-NID:40406
END:VEVENT
END:VCALENDAR
