BEGIN:VCALENDAR
VERSION:2.0
PRODID:-//Date iCal v2.14-dev//NONSGML kigkonsult.se iCalcreator 2.16.6//
METHOD:PUBLISH
X-WR-CALNAME;VALUE=TEXT:Greater Baltimore Cultural Alliance
BEGIN:VTIMEZONE
TZID:America/New_York
BEGIN:STANDARD
DTSTART:20261101T020000
TZOFFSETFROM:-0400
TZOFFSETTO:-0500
TZNAME:EST
END:STANDARD
BEGIN:DAYLIGHT
DTSTART:20270314T020000
TZOFFSETFROM:-0500
TZOFFSETTO:-0400
TZNAME:EDT
END:DAYLIGHT
END:VTIMEZONE
BEGIN:VEVENT
UID:calendar.40332.field_fc_date.0@culturefly.org
DTSTAMP:20260421T162817Z
ATTACH;FMTTYPE=image/jpeg:https://culturefly.org/sites/default/files/event-
 image/2026%20TEMPEST%20Calendar%20Listing%20600x350.jpg
CATEGORIES:Performance
CREATED:20260326T155118Z
DESCRIPTION:Exiled, the magician Prospero rules over a remote island with 
 his daughter.  As past betrayals resurface, redemption and forgiveness co
 llide in a storm of  magic in Shakespeare’s spellbinding, final masterpie
 ce.\n\nThe show runs Friday, April 24 through Sunday, May 17. Times vary
  on select  dates. Please visit our website to access the show calendar!
DTSTART;TZID=America/New_York:20260424T200000
DTEND;TZID=America/New_York:20260424T220000
GEO:+39.289077;-76.612142
LAST-MODIFIED:20260326T160750Z
LOCATION:Chesapeake Shakespeare Company, 7 South Calvert Street, Baltimor
 e, MD
RRULE:FREQ=WEEKLY;UNTIL=20260518T075959Z;INTERVAL=1;BYDAY=FR,SA;WKST=SU
SUMMARY:Chesapeake Shakespeare Company Presents The Tempest
URL:https://www.chesapeakeshakespeare.com/shows-tickets/tempest/
X-GBCA-NID:40332
END:VEVENT
END:VCALENDAR
