BEGIN:VCALENDAR
VERSION:2.0
PRODID:-//Date iCal v2.14-dev//NONSGML kigkonsult.se iCalcreator 2.16.6//
METHOD:PUBLISH
X-WR-CALNAME;VALUE=TEXT:Greater Baltimore Cultural Alliance
BEGIN:VTIMEZONE
TZID:America/New_York
BEGIN:STANDARD
DTSTART:20261101T020000
TZOFFSETFROM:-0400
TZOFFSETTO:-0500
TZNAME:EST
END:STANDARD
BEGIN:DAYLIGHT
DTSTART:20270314T020000
TZOFFSETFROM:-0500
TZOFFSETTO:-0400
TZNAME:EDT
END:DAYLIGHT
END:VTIMEZONE
BEGIN:VEVENT
UID:calendar.40331.field_fc_date.0@culturefly.org
DTSTAMP:20260421T203106Z
ATTACH;FMTTYPE=image/jpeg:https://culturefly.org/sites/default/files/event-
 image/CGzK84KByUS3BeET8dQKOA.large_.jpg
CATEGORIES:Activities,History & Heritage
CREATED:20260326T154438Z
DESCRIPTION:Baltimore, October 1849. Edgar Allan Poe is discovered alone,
  clad in filthy  rags, confused and gravely ill, with no clear account o
 f how he came to be  there. Within days, he is dead. The master of myster
 y leaves behind a final  story no one can fully explain. As we travel thro
 ugh Baltimore, you’ll  stand in the places tied to his last days and expl
 ore the line between  documented fact and enduring legend.
DTSTART;TZID=America/New_York:20260418T143000
DTEND;TZID=America/New_York:20260418T173000
GEO:+39.283911;-76.612276
LAST-MODIFIED:20260326T160750Z
LOCATION:Baltimore Visitor Center, 401 Light Street, Baltimore, MD
SUMMARY:Edgar Allan Poe's Death in Baltimore Bus Tour
URL:https://book.peek.com/s/43e841c2-02f5-4e8a-926e-1c9d471488c9/mYxYW
X-GBCA-NID:40331
END:VEVENT
BEGIN:VEVENT
UID:calendar.40331.field_fc_date.0@culturefly.org
DTSTAMP:20260421T203106Z
ATTACH;FMTTYPE=image/jpeg:https://culturefly.org/sites/default/files/event-
 image/CGzK84KByUS3BeET8dQKOA.large_.jpg
CATEGORIES:Activities,History & Heritage
CREATED:20260326T154438Z
DESCRIPTION:Baltimore, October 1849. Edgar Allan Poe is discovered alone,
  clad in filthy  rags, confused and gravely ill, with no clear account o
 f how he came to be  there. Within days, he is dead. The master of myster
 y leaves behind a final  story no one can fully explain. As we travel thro
 ugh Baltimore, you’ll  stand in the places tied to his last days and expl
 ore the line between  documented fact and enduring legend.
DTSTART;TZID=America/New_York:20260516T110000
DTEND;TZID=America/New_York:20260516T143000
GEO:+39.283911;-76.612276
LAST-MODIFIED:20260326T160750Z
LOCATION:Baltimore Visitor Center, 401 Light Street, Baltimore, MD
RRULE:FREQ=MONTHLY;UNTIL=20260920T075959Z;INTERVAL=1;BYDAY=+3SA;BYMONTH=6,7
 ,8,9;WKST=SU
SUMMARY:Edgar Allan Poe's Death in Baltimore Bus Tour
URL:https://book.peek.com/s/43e841c2-02f5-4e8a-926e-1c9d471488c9/mYxYW
X-GBCA-NID:40331
END:VEVENT
END:VCALENDAR
