BEGIN:VCALENDAR
VERSION:2.0
PRODID:-//Date iCal v2.14-dev//NONSGML kigkonsult.se iCalcreator 2.16.6//
METHOD:PUBLISH
X-WR-CALNAME;VALUE=TEXT:Greater Baltimore Cultural Alliance
BEGIN:VTIMEZONE
TZID:America/New_York
BEGIN:STANDARD
DTSTART:20261101T020000
TZOFFSETFROM:-0400
TZOFFSETTO:-0500
TZNAME:EST
END:STANDARD
BEGIN:DAYLIGHT
DTSTART:20260308T020000
TZOFFSETFROM:-0500
TZOFFSETTO:-0400
RDATE:20270314T020000
TZNAME:EDT
END:DAYLIGHT
END:VTIMEZONE
BEGIN:VEVENT
UID:calendar.40261.field_fc_date.0@culturefly.org
DTSTAMP:20260421T162756Z
ATTACH;FMTTYPE=image/jpeg:https://culturefly.org/sites/default/files/event-
 image/Oh-MovementOfNatureTeapotSet3.jpg
CATEGORIES:Exhibition
CREATED:20260309T191729Z
DESCRIPTION:*Opening Reception: March 21, 2026, 4:00 – 6:00 pm*\n\n/Conte
 mporary Porcelain: From Tradition to Innovation/ explores the enduring  le
 gacy of porcelain while showcasing the bold ways artists are redefining  t
 his historic material today. Long celebrated for its refinement,  translu
 cency, and technical precision, porcelain has deep roots in global  trad
 itions.
DTSTART;TZID=America/New_York:20260321T100000
DTEND;TZID=America/New_York:20260523T170000
GEO:+39.367622;-76.653195
LAST-MODIFIED:20260310T162113Z
LOCATION:Baltimore Clayworks, 5707 Smith Avenue, Baltimore, MD
RRULE:FREQ=WEEKLY;UNTIL=20260524T075959Z;INTERVAL=1;BYDAY=SU,MO,TU,WE,TH,FR
 ,SA;WKST=SU
SUMMARY:Contemporary Porcelain: from Tradition to Innovation
URL:https://baltimoreclayworks.org/event/contemporary-porcelain-from-tradit
 ion-to-innovation/
X-GBCA-NID:40261
END:VEVENT
END:VCALENDAR
