BEGIN:VCALENDAR
VERSION:2.0
PRODID:-//Date iCal v2.14-dev//NONSGML kigkonsult.se iCalcreator 2.16.6//
METHOD:PUBLISH
X-WR-CALNAME;VALUE=TEXT:Greater Baltimore Cultural Alliance
BEGIN:VTIMEZONE
TZID:America/New_York
BEGIN:STANDARD
DTSTART:20261101T020000
TZOFFSETFROM:-0400
TZOFFSETTO:-0500
TZNAME:EST
END:STANDARD
BEGIN:DAYLIGHT
DTSTART:20270314T020000
TZOFFSETFROM:-0500
TZOFFSETTO:-0400
TZNAME:EDT
END:DAYLIGHT
END:VTIMEZONE
BEGIN:VEVENT
UID:calendar.40259.field_fc_date.0@culturefly.org
DTSTAMP:20260422T015442Z
ATTACH;FMTTYPE=image/png:https://culturefly.org/sites/default/files/event-i
 mage/Aaron-Oldenburg.png
CATEGORIES:Exhibition
CREATED:20260309T172857Z
DESCRIPTION:Aaron Oldenburg creates artworks using game engines, coding la
 nguages, 2D and  3D digital art creation software, and audio sampling. T
 his exhibition is a  series of procedural software works, including inter
 active virtual reality,  that deal with memory, climate instability, an
 d bodily de/re-composition.  Prints of screenshots taken from them accompa
 ny the works.
DTSTART;TZID=America/New_York:20260711T140000
DTEND;TZID=America/New_York:20260711T160000
GEO:+39.064792;-76.843318
LAST-MODIFIED:20260310T162113Z
LOCATION:Montpelier Arts Center, 9652 Muirkirk Road, Laurel, MD
SUMMARY:Aaron Oldenburg: Night Walks - Public Reception
URL:https://arts.pgparks.com/event_list/aaron-oldenburg-night-walks-public-
 reception
X-GBCA-NID:40259
END:VEVENT
END:VCALENDAR
