BEGIN:VCALENDAR
VERSION:2.0
PRODID:-//Date iCal v2.14-dev//NONSGML kigkonsult.se iCalcreator 2.16.6//
METHOD:PUBLISH
X-WR-CALNAME;VALUE=TEXT:Greater Baltimore Cultural Alliance
BEGIN:VTIMEZONE
TZID:America/New_York
BEGIN:STANDARD
DTSTART:20261101T020000
TZOFFSETFROM:-0400
TZOFFSETTO:-0500
TZNAME:EST
END:STANDARD
BEGIN:DAYLIGHT
DTSTART:20260308T020000
TZOFFSETFROM:-0500
TZOFFSETTO:-0400
RDATE:20270314T020000
TZNAME:EDT
END:DAYLIGHT
END:VTIMEZONE
BEGIN:VEVENT
UID:calendar.40256.field_fc_date.0@culturefly.org
DTSTAMP:20260421T132530Z
ATTACH;FMTTYPE=image/png:https://culturefly.org/sites/default/files/event-i
 mage/HW_Level-1-FB_5.png
CATEGORIES:Performance,Lectures/ Workshops,Activities,Professional Devel
 opment
CREATED:20260307T163026Z
DESCRIPTION:This 6-week class will introduce you to the fundamentals of imp
 rov in a safe,  supportive, joyful environment! Includes a student showc
 ase!\n\n**Welcome to the wonderful world of improv comedy!**\n\nCould you 
 imagine yourself:
DTSTART;TZID=America/New_York:20260325T190000
DTEND;TZID=America/New_York:20260325T210000
LAST-MODIFIED:20260310T162113Z
LOCATION:Highwire Improv, 400 S. Conkling Street, Baltimore, MD
SUMMARY:Fundamentals of Improv Level 1 - Multiweek Class
URL:https://www.highwireimprov.com
X-GBCA-NID:40256
END:VEVENT
END:VCALENDAR
