BEGIN:VCALENDAR
VERSION:2.0
PRODID:-//Date iCal v2.14-dev//NONSGML kigkonsult.se iCalcreator 2.16.6//
METHOD:PUBLISH
X-WR-CALNAME;VALUE=TEXT:Greater Baltimore Cultural Alliance
BEGIN:VTIMEZONE
TZID:America/New_York
BEGIN:STANDARD
DTSTART:20261101T020000
TZOFFSETFROM:-0400
TZOFFSETTO:-0500
TZNAME:EST
END:STANDARD
BEGIN:DAYLIGHT
DTSTART:20260308T020000
TZOFFSETFROM:-0500
TZOFFSETTO:-0400
RDATE:20270314T020000
TZNAME:EDT
END:DAYLIGHT
END:VTIMEZONE
BEGIN:VEVENT
UID:calendar.40252.field_fc_date.0@culturefly.org
DTSTAMP:20260421T053032Z
ATTACH;FMTTYPE=image/jpeg:https://culturefly.org/sites/default/files/u138/L
 ucien%20Herv%C3%A9.%20The%20large%20studio%20at%20the%20R%C3%A9gina%2C%20J
 une%2026%2C%201949.jpg
CATEGORIES:Exhibition
CREATED:20260305T210912Z
DESCRIPTION:Experience a rare look into Henri Matisse’s creative genius. Mo
 re than 80  drawings—brought together for the first time—reveal how the ar
 tist shaped  his late‑career masterpiece, the /Stations of the Cross/ mur
 al, for the  Chapel of the Rosary in Vence, France.\n\n/Matisse in Vence
 / brings together loans from the Musée Matisse Nice, the  Chapel of the R
 osary, and private collections to offer visitors the  invaluable opportun
 ity to see and study a critical body of work from the  final years of the 
 Matisse’s life.
DTSTART;TZID=America/New_York:20260329T100000
DTEND;TZID=America/New_York:20260329T170000
EXDATE;TZID=America/New_York:20260619T100000
GEO:+39.325755;-76.61944
LAST-MODIFIED:20260305T213808Z
LOCATION:Baltimore Museum of Art, 10 Art Museum Drive, Baltimore, MD
RRULE:FREQ=WEEKLY;UNTIL=20260629T075959Z;INTERVAL=1;BYDAY=SU,WE,TH,FR,SA;WK
 ST=SU
SUMMARY:Matisse in Vence: The Stations of the Cross
URL:https://artbma.org/exhibition/matisse-in-vence-the-stations-of-the-cros
 s
X-GBCA-NID:40252
END:VEVENT
END:VCALENDAR
