BEGIN:VCALENDAR
VERSION:2.0
PRODID:-//Date iCal v2.14-dev//NONSGML kigkonsult.se iCalcreator 2.16.6//
METHOD:PUBLISH
X-WR-CALNAME;VALUE=TEXT:Greater Baltimore Cultural Alliance
BEGIN:VTIMEZONE
TZID:America/New_York
BEGIN:STANDARD
DTSTART:20261101T020000
TZOFFSETFROM:-0400
TZOFFSETTO:-0500
TZNAME:EST
END:STANDARD
BEGIN:DAYLIGHT
DTSTART:20260308T020000
TZOFFSETFROM:-0500
TZOFFSETTO:-0400
RDATE:20270314T020000
TZNAME:EDT
END:DAYLIGHT
END:VTIMEZONE
BEGIN:VEVENT
UID:calendar.40250.field_fc_date.0@culturefly.org
DTSTAMP:20260420T084854Z
ATTACH;FMTTYPE=image/png:https://culturefly.org/sites/default/files/event-i
 mage/Untitled%20design%287%29.png
CATEGORIES:Performance
CREATED:20260305T192309Z
DESCRIPTION:A brand new, full length puppetry spectacle, The Dream Show i
 s an exploration  of dreaming: of sleep, new horizons, and other ends of
  the world through the  love story of Pierrot & the Moon. Giant mâché pupp
 ets, lullabies,  marionettes, disembodied limbs searching for their hom
 es, and textured  landscapes create a dreamworld both tender and horrifyi
 ng. Pierrot holds a  mirror to the world of hunger and exploitation, and 
 asks the question: why  not steal, and why not strike? The show is intend
 ed for adult audiences, but  can also be enjoyed by children who are not 
 afraid of ghosts.
DTSTART;TZID=America/New_York:20260327T193000
DTEND;TZID=America/New_York:20260327T230000
LAST-MODIFIED:20260305T213808Z
LOCATION:Le Mondo, 406 North Howard Street, Baltimore, MD
SUMMARY:THE DREAM SHOW
URL:https://www.lemondo.org/events/theater-the-dream-show-2026-03-27-19-30
X-GBCA-NID:40250
END:VEVENT
END:VCALENDAR
