BEGIN:VCALENDAR
VERSION:2.0
PRODID:-//Date iCal v2.14-dev//NONSGML kigkonsult.se iCalcreator 2.16.6//
METHOD:PUBLISH
X-WR-CALNAME;VALUE=TEXT:Greater Baltimore Cultural Alliance
BEGIN:VTIMEZONE
TZID:America/New_York
BEGIN:STANDARD
DTSTART:20261101T020000
TZOFFSETFROM:-0400
TZOFFSETTO:-0500
TZNAME:EST
END:STANDARD
BEGIN:DAYLIGHT
DTSTART:20260308T020000
TZOFFSETFROM:-0500
TZOFFSETTO:-0400
RDATE:20270314T020000
TZNAME:EDT
END:DAYLIGHT
END:VTIMEZONE
BEGIN:VEVENT
UID:calendar.40249.field_fc_date.0@culturefly.org
DTSTAMP:20260419T121826Z
ATTACH;FMTTYPE=image/png:https://culturefly.org/sites/default/files/event-i
 mage/Untitled%20design%286%29_0.png
CATEGORIES:Performance,Nightlife
CREATED:20260305T192034Z
DESCRIPTION:Join Marissa Paternoster (of Screaming Females) in her project 
 NOUN and  Dublin-born Ailbhe Reddy in a night of live music at Le Mondo.
DTSTART;TZID=America/New_York:20260326T193000
DTEND;TZID=America/New_York:20260326T220000
LAST-MODIFIED:20260305T213808Z
LOCATION:Le Mondo, 406 North Howard Street, Baltimore, MD
SUMMARY:Noun + Ailbhe Reddy & Special Guests
URL:https://www.lemondo.org/events/music-noun-ailbhe-reddy-special-guests
X-GBCA-NID:40249
END:VEVENT
END:VCALENDAR
