BEGIN:VCALENDAR
VERSION:2.0
PRODID:-//Date iCal v2.14-dev//NONSGML kigkonsult.se iCalcreator 2.16.6//
METHOD:PUBLISH
X-WR-CALNAME;VALUE=TEXT:Greater Baltimore Cultural Alliance
BEGIN:VTIMEZONE
TZID:America/New_York
BEGIN:STANDARD
DTSTART:20261101T020000
TZOFFSETFROM:-0400
TZOFFSETTO:-0500
TZNAME:EST
END:STANDARD
BEGIN:DAYLIGHT
DTSTART:20260308T020000
TZOFFSETFROM:-0500
TZOFFSETTO:-0400
RDATE:20270314T020000
TZNAME:EDT
END:DAYLIGHT
END:VTIMEZONE
BEGIN:VEVENT
UID:calendar.40248.field_fc_date.0@culturefly.org
DTSTAMP:20260420T132836Z
ATTACH;FMTTYPE=image/png:https://culturefly.org/sites/default/files/event-i
 mage/Screenshot%202026-03-05%20141447_1.png
CATEGORIES:Performance,Nightlife
CREATED:20260305T191657Z
DESCRIPTION:Echolocation is an interactive party inspired by animal sensory
  systems and  their use of sound as a means of navigation and survival. Th
 e DJ will be  obscured by a sheer curtain with dolphin related visuals pro
 jecting behind  them; so the dancers can see a shadow of the DJ, while t
 he DJ is left in the  dark, unable to see the audience at all, navigatin
 g their environment via  echolocation.\n\nWe hope this event serves you as
  a space for sanctuary on the dance floor and  a place to feel your hypers
 ensitivity and motion together.
DTSTART;TZID=America/New_York:20260320T210000
DTEND;TZID=America/New_York:20260321T020000
LAST-MODIFIED:20260305T213808Z
LOCATION:Le Mondo, 406 North Howard Street, Baltimore, MD
SUMMARY:Echolocation IV: eeEEeEequinox
URL:https://www.lemondo.org/events/dj-music-echolocation-iv-eeeeeeequinox
X-GBCA-NID:40248
END:VEVENT
END:VCALENDAR
