BEGIN:VCALENDAR
VERSION:2.0
PRODID:-//Date iCal v2.14-dev//NONSGML kigkonsult.se iCalcreator 2.16.6//
METHOD:PUBLISH
X-WR-CALNAME;VALUE=TEXT:Greater Baltimore Cultural Alliance
BEGIN:VTIMEZONE
TZID:America/New_York
BEGIN:STANDARD
DTSTART:20261101T020000
TZOFFSETFROM:-0400
TZOFFSETTO:-0500
TZNAME:EST
END:STANDARD
BEGIN:DAYLIGHT
DTSTART:20260308T020000
TZOFFSETFROM:-0500
TZOFFSETTO:-0400
RDATE:20270314T020000
TZNAME:EDT
END:DAYLIGHT
END:VTIMEZONE
BEGIN:VEVENT
UID:calendar.40236.field_fc_date.0@culturefly.org
DTSTAMP:20260421T151049Z
ATTACH;FMTTYPE=image/jpeg:https://culturefly.org/sites/default/files/event-
 image/Nicholas%20Bavani.jpg
CATEGORIES:Performance,Nightlife
CREATED:20260304T212516Z
DESCRIPTION:Join pianist Nicholas Bavani at An die Musik Like for 'Vexation
 s' – a  darkly luminous recital where avant-garde audacity collides with  
 late-Romantic gothic intensity.\n\nAnchored by the obsessive stillness of 
 Erik Satie’s Vexations, the program  moves through stark contrasts and sh
 adowed beauty—juxtaposing the  architectural clarity of Mozart, the smold
 ering introspection of Brahms, and  the modernism of Prokofiev's electric
  sounds. Each work becomes a different  facet of psychological tension: re
 straint versus excess, devotion versus  defiance.
DTSTART;TZID=America/New_York:20260313T200000
DTEND;TZID=America/New_York:20260313T220000
LAST-MODIFIED:20260305T213811Z
LOCATION:An Die Musik Live, 409 North Charles Street Second Floor, Baltim
 ore, MD
SUMMARY:Nicholas Bavani 'Vexations'
URL:https://www.instantseats.com/?fuseaction=home.artist&VenueID=321&artist
 id=22941
X-GBCA-NID:40236
END:VEVENT
END:VCALENDAR
