BEGIN:VCALENDAR
VERSION:2.0
PRODID:-//Date iCal v2.14-dev//NONSGML kigkonsult.se iCalcreator 2.16.6//
METHOD:PUBLISH
X-WR-CALNAME;VALUE=TEXT:Greater Baltimore Cultural Alliance
BEGIN:VTIMEZONE
TZID:America/New_York
BEGIN:STANDARD
DTSTART:20261101T020000
TZOFFSETFROM:-0400
TZOFFSETTO:-0500
TZNAME:EST
END:STANDARD
BEGIN:DAYLIGHT
DTSTART:20260308T020000
TZOFFSETFROM:-0500
TZOFFSETTO:-0400
RDATE:20270314T020000
TZNAME:EDT
END:DAYLIGHT
END:VTIMEZONE
BEGIN:VEVENT
UID:calendar.40224.field_fc_date.0@culturefly.org
DTSTAMP:20260422T034200Z
ATTACH;FMTTYPE=image/jpeg:https://culturefly.org/sites/default/files/event-
 image/Matisse_2010.241_o3.jpg
CATEGORIES:Exhibition
CREATED:20260304T160506Z
DESCRIPTION:Between 1946 and 1953, Henri Matisse created 28 lithographic p
 ortraits for  /Poésies Antillaises/ (/Antillean Poetry/), a book of poems
  by John-Antoine  Nau. Published posthumously in 1972, this rare volume r
 emains one of  Matisse’s least-known illustrated works.
DTSTART;TZID=America/New_York:20260318T100000
DTEND;TZID=America/New_York:20260318T170000
EXDATE;TZID=America/New_York:20260619T100000
EXDATE;TZID=America/New_York:20260704T100000
GEO:+39.325755;-76.61944
LAST-MODIFIED:20260305T213813Z
LOCATION:Baltimore Museum of Art, 10 Art Museum Drive, Baltimore, MD
RRULE:FREQ=WEEKLY;UNTIL=20261026T075959Z;INTERVAL=1;BYDAY=SU,WE,TH,FR,SA;WK
 ST=SU
SUMMARY:Matisse and Martinique: Portraits and Poetry
URL:https://artbma.org/exhibition/matisse-and-martinique-portraits-and-poet
 ry
X-GBCA-NID:40224
END:VEVENT
END:VCALENDAR
