BEGIN:VCALENDAR
VERSION:2.0
PRODID:-//Date iCal v2.14-dev//NONSGML kigkonsult.se iCalcreator 2.16.6//
METHOD:PUBLISH
X-WR-CALNAME;VALUE=TEXT:Greater Baltimore Cultural Alliance
BEGIN:VTIMEZONE
TZID:America/New_York
BEGIN:STANDARD
DTSTART:20261101T020000
TZOFFSETFROM:-0400
TZOFFSETTO:-0500
TZNAME:EST
END:STANDARD
BEGIN:DAYLIGHT
DTSTART:20260308T020000
TZOFFSETFROM:-0500
TZOFFSETTO:-0400
TZNAME:EDT
END:DAYLIGHT
END:VTIMEZONE
BEGIN:VEVENT
UID:calendar.40204.field_fc_date.0@culturefly.org
DTSTAMP:20260421T085100Z
ATTACH;FMTTYPE=image/jpeg:https://culturefly.org/sites/default/files/event-
 image/Cherish%20The%20Ladies.jpeg
CATEGORIES:Performance
CREATED:20260227T154149Z
DESCRIPTION:“It is simply impossible to imagine an audience that wouldn’t e
 njoy what  they do,” says The Boston Globe of Cherish The Ladies, Grammy
  Award  nominated Irish-American supergroup that formed in 1985 to celebra
 te the rise  of extraordinary women in what had been a male-dominated Celt
 ic music scene.
DTSTART;TZID=America/New_York:20260303T200000
DTEND;TZID=America/New_York:20260303T220000
GEO:+38.978226;-76.49448
LAST-MODIFIED:20260301T233043Z
LOCATION:Rams Head on Stage, 33 West St., Annapolis, MD
SUMMARY:Cherish The Ladies
URL:https://eventvesta.com/events/136007/t/tickets
X-GBCA-NID:40204
END:VEVENT
END:VCALENDAR
