BEGIN:VCALENDAR
VERSION:2.0
PRODID:-//Date iCal v2.14-dev//NONSGML kigkonsult.se iCalcreator 2.16.6//
METHOD:PUBLISH
X-WR-CALNAME;VALUE=TEXT:Greater Baltimore Cultural Alliance
BEGIN:VTIMEZONE
TZID:America/New_York
BEGIN:STANDARD
DTSTART:20261101T020000
TZOFFSETFROM:-0400
TZOFFSETTO:-0500
TZNAME:EST
END:STANDARD
BEGIN:DAYLIGHT
DTSTART:20260308T020000
TZOFFSETFROM:-0500
TZOFFSETTO:-0400
RDATE:20270314T020000
TZNAME:EDT
END:DAYLIGHT
END:VTIMEZONE
BEGIN:VEVENT
UID:calendar.40158.field_fc_date.0@culturefly.org
DTSTAMP:20260420T115623Z
ATTACH;FMTTYPE=image/jpeg:https://culturefly.org/sites/default/files/event-
 image/banner_18.JPG
CATEGORIES:Other
CREATED:20260223T205655Z
DESCRIPTION:Schedule: Saturday, March 28; 9am-4pm Sunday, March 29; 11a
 m-4pm Saturday, April 4; 9am-4pm FINAL ADMISSIONS 2:30PM
DTSTART;TZID=America/New_York:20260328T090000
DTEND;TZID=America/New_York:20260328T160000
LAST-MODIFIED:20260224T190155Z
LOCATION:Mary's Land Farm, 4979 Sheppard Lane, Ellicott City, MD
SUMMARY:Easter EGGstravaganza at Mary’s Land Farm!
URL:https://eventvesta.com/events/134973/t/tickets
X-GBCA-NID:40158
END:VEVENT
END:VCALENDAR
