BEGIN:VCALENDAR
VERSION:2.0
PRODID:-//Date iCal v2.14-dev//NONSGML kigkonsult.se iCalcreator 2.16.6//
METHOD:PUBLISH
X-WR-CALNAME;VALUE=TEXT:Greater Baltimore Cultural Alliance
BEGIN:VTIMEZONE
TZID:America/New_York
BEGIN:STANDARD
DTSTART:20261101T020000
TZOFFSETFROM:-0400
TZOFFSETTO:-0500
TZNAME:EST
END:STANDARD
BEGIN:DAYLIGHT
DTSTART:20260308T020000
TZOFFSETFROM:-0500
TZOFFSETTO:-0400
TZNAME:EDT
END:DAYLIGHT
END:VTIMEZONE
BEGIN:VEVENT
UID:calendar.40155.field_fc_date.0@culturefly.org
DTSTAMP:20260421T083059Z
ATTACH;FMTTYPE=image/png:https://culturefly.org/sites/default/files/event-i
 mage/Grey%20Orange%20And%20Black%20Fashion%20Show%20Minimalist%20Flyer%20%
 28Infographic%20%28US%29%29%20%28US%20Letter%29%20%282%29.png
CATEGORIES:Exhibition,Other
CREATED:20260222T221558Z
DESCRIPTION:*Rust & Royalty Fashion Exhibition* is a community-centred fash
 ion and art  exhibition taking place at the historic Light Street Pavilion
  in  Baltimore’s Inner Harbor. This free public event brings together Blac
 k  designers, minority-owned brands, wearable art artists, stylists, a
 nd local  makers for a curated experience that celebrates sustainable fash
 ion,  handcrafted design, and creative entrepreneurship.
DTSTART;VALUE=DATE:20260307
DTEND;VALUE=DATE:20260308
LAST-MODIFIED:20260223T190624Z
LOCATION:Made In Baltimore , 301 Light Street, Baltimore, MD
SUMMARY:Rust & Royalty Fashion Exhibition
URL:https://www.eventbrite.com/e/1982142742300?aff=oddtdtcreator
X-GBCA-NID:40155
END:VEVENT
END:VCALENDAR
