BEGIN:VCALENDAR
VERSION:2.0
PRODID:-//Date iCal v2.14-dev//NONSGML kigkonsult.se iCalcreator 2.16.6//
METHOD:PUBLISH
X-WR-CALNAME;VALUE=TEXT:Greater Baltimore Cultural Alliance
BEGIN:VTIMEZONE
TZID:America/New_York
BEGIN:STANDARD
DTSTART:20261101T020000
TZOFFSETFROM:-0400
TZOFFSETTO:-0500
TZNAME:EST
END:STANDARD
BEGIN:DAYLIGHT
DTSTART:20260308T020000
TZOFFSETFROM:-0500
TZOFFSETTO:-0400
TZNAME:EDT
END:DAYLIGHT
END:VTIMEZONE
BEGIN:VEVENT
UID:calendar.40102.field_fc_date.0@culturefly.org
DTSTAMP:20260421T101909Z
ATTACH;FMTTYPE=image/jpeg:https://culturefly.org/sites/default/files/event-
 image/HwtY.jpg
CATEGORIES:Performance,Nightlife
CREATED:20260218T005804Z
DESCRIPTION:An die Musik Live is proud to partner with the Peabody Conserva
 tory Jazz  Department to present Hittin’ with the Youngins!
DTSTART;TZID=America/New_York:20260312T193000
DTEND;TZID=America/New_York:20260312T213000
LAST-MODIFIED:20260218T220523Z
LOCATION:An Die Musik Live, 409 North Charles Street Second Floor, Baltim
 ore, MD
SUMMARY:Hittin' With the Youngins
URL:https://www.instantseats.com/?fuseaction=home.artist&VenueID=321&artist
 id=38839
X-GBCA-NID:40102
END:VEVENT
END:VCALENDAR
