BEGIN:VCALENDAR
VERSION:2.0
PRODID:-//Date iCal v2.14-dev//NONSGML kigkonsult.se iCalcreator 2.16.6//
METHOD:PUBLISH
X-WR-CALNAME;VALUE=TEXT:Greater Baltimore Cultural Alliance
BEGIN:VTIMEZONE
TZID:America/New_York
BEGIN:STANDARD
DTSTART:20261101T020000
TZOFFSETFROM:-0400
TZOFFSETTO:-0500
TZNAME:EST
END:STANDARD
BEGIN:DAYLIGHT
DTSTART:20260308T020000
TZOFFSETFROM:-0500
TZOFFSETTO:-0400
TZNAME:EDT
END:DAYLIGHT
END:VTIMEZONE
BEGIN:VEVENT
UID:calendar.40075.field_fc_date.0@culturefly.org
DTSTAMP:20260421T182032Z
ATTACH;FMTTYPE=image/jpeg:https://culturefly.org/sites/default/files/u9749/
 JoeGermershausen_Untitled_2026_OilAnd%20Wax%20_24x36in_small.jpg
CATEGORIES:Exhibition
CREATED:20260211T205816Z
DESCRIPTION:Join us at Gallery 1448 for the opening reception of */Joe Germ
 ershausen:  Interruptions/*. This series of twenty paintings continues to 
 explore what  has fascinated the artist for the past seventy years: the li
 nes, colors,  shapes, and textures encountered in his everyday existenc
 e.
DTSTART;TZID=America/New_York:20260308T140000
DTEND;TZID=America/New_York:20260308T180000
LAST-MODIFIED:20260212T202412Z
LOCATION:Gallery 1448, 1448 East Baltimore Street, Baltimore, MD
SUMMARY:Joe Germershausen at Gallery 1448 (Opening Reception)
URL;TYPE=URI:https://culturefly.org/calendar/event/40075/joe-germershausen-
 gallery-1448-opening-reception
X-GBCA-NID:40075
END:VEVENT
END:VCALENDAR
