BEGIN:VCALENDAR
VERSION:2.0
PRODID:-//Date iCal v2.14-dev//NONSGML kigkonsult.se iCalcreator 2.16.6//
METHOD:PUBLISH
X-WR-CALNAME;VALUE=TEXT:Greater Baltimore Cultural Alliance
BEGIN:VTIMEZONE
TZID:America/New_York
BEGIN:STANDARD
DTSTART:20261101T020000
TZOFFSETFROM:-0400
TZOFFSETTO:-0500
TZNAME:EST
END:STANDARD
BEGIN:DAYLIGHT
DTSTART:20270314T020000
TZOFFSETFROM:-0500
TZOFFSETTO:-0400
TZNAME:EDT
END:DAYLIGHT
END:VTIMEZONE
BEGIN:VEVENT
UID:calendar.40074.field_fc_date.0@culturefly.org
DTSTAMP:20260420T214539Z
ATTACH;FMTTYPE=image/jpeg:https://culturefly.org/sites/default/files/event-
 image/Magic%20school%20bus%20-%20spring%20line%20up%201080x1350.5.jpg
CATEGORIES:Performance,Professional Development
CREATED:20260211T200329Z
DESCRIPTION:When the class gets lost on the way to the planetarium, Ms. Fr
 izzle saves the  day by blasting into outer space for an epic interplaneta
 ry field trip! But  when rivalries both old and new threaten to tear the s
 tudents apart, our  young heroes must learn to pull together or risk gett
 ing forever lost in the  solar system.\n\nHop on the Magic School Bus for 
 a ride in this new musical adaptation based  on the original book series p
 ublished by Scholastic.\n\n*Approximate Running Time:* 60 Minutes *Recomme
 nded Ages: *Grades K through 5
DTSTART;TZID=America/New_York:20260515T180000
DTEND;TZID=America/New_York:20260515T190000
GEO:+39.298155;-76.613241
LAST-MODIFIED:20260212T202412Z
LOCATION:Baltimore Center Stage, 700 N. Calvert Street, Baltimore, MD
SUMMARY:The Magic School Bus Lost In The Solar System
URL:centerstage.org
X-GBCA-NID:40074
END:VEVENT
BEGIN:VEVENT
UID:calendar.40074.field_fc_date.0@culturefly.org
DTSTAMP:20260420T214539Z
ATTACH;FMTTYPE=image/jpeg:https://culturefly.org/sites/default/files/event-
 image/Magic%20school%20bus%20-%20spring%20line%20up%201080x1350.5.jpg
CATEGORIES:Performance,Professional Development
CREATED:20260211T200329Z
DESCRIPTION:When the class gets lost on the way to the planetarium, Ms. Fr
 izzle saves the  day by blasting into outer space for an epic interplaneta
 ry field trip! But  when rivalries both old and new threaten to tear the s
 tudents apart, our  young heroes must learn to pull together or risk gett
 ing forever lost in the  solar system.\n\nHop on the Magic School Bus for 
 a ride in this new musical adaptation based  on the original book series p
 ublished by Scholastic.\n\n*Approximate Running Time:* 60 Minutes *Recomme
 nded Ages: *Grades K through 5
DTSTART;TZID=America/New_York:20260516T140000
DTEND;TZID=America/New_York:20260516T150000
GEO:+39.298155;-76.613241
LAST-MODIFIED:20260212T202412Z
LOCATION:Baltimore Center Stage, 700 N. Calvert Street, Baltimore, MD
SUMMARY:The Magic School Bus Lost In The Solar System
URL:centerstage.org
X-GBCA-NID:40074
END:VEVENT
BEGIN:VEVENT
UID:calendar.40074.field_fc_date.0@culturefly.org
DTSTAMP:20260420T214539Z
ATTACH;FMTTYPE=image/jpeg:https://culturefly.org/sites/default/files/event-
 image/Magic%20school%20bus%20-%20spring%20line%20up%201080x1350.5.jpg
CATEGORIES:Performance,Professional Development
CREATED:20260211T200329Z
DESCRIPTION:When the class gets lost on the way to the planetarium, Ms. Fr
 izzle saves the  day by blasting into outer space for an epic interplaneta
 ry field trip! But  when rivalries both old and new threaten to tear the s
 tudents apart, our  young heroes must learn to pull together or risk gett
 ing forever lost in the  solar system.\n\nHop on the Magic School Bus for 
 a ride in this new musical adaptation based  on the original book series p
 ublished by Scholastic.\n\n*Approximate Running Time:* 60 Minutes *Recomme
 nded Ages: *Grades K through 5
DTSTART;TZID=America/New_York:20260517T130000
DTEND;TZID=America/New_York:20260517T140000
GEO:+39.298155;-76.613241
LAST-MODIFIED:20260212T202412Z
LOCATION:Baltimore Center Stage, 700 N. Calvert Street, Baltimore, MD
SUMMARY:The Magic School Bus Lost In The Solar System
URL:centerstage.org
X-GBCA-NID:40074
END:VEVENT
END:VCALENDAR
