BEGIN:VCALENDAR
VERSION:2.0
PRODID:-//Date iCal v2.14-dev//NONSGML kigkonsult.se iCalcreator 2.16.6//
METHOD:PUBLISH
X-WR-CALNAME;VALUE=TEXT:Greater Baltimore Cultural Alliance
BEGIN:VTIMEZONE
TZID:America/New_York
BEGIN:STANDARD
DTSTART:20261101T020000
TZOFFSETFROM:-0400
TZOFFSETTO:-0500
TZNAME:EST
END:STANDARD
BEGIN:DAYLIGHT
DTSTART:20260308T020000
TZOFFSETFROM:-0500
TZOFFSETTO:-0400
TZNAME:EDT
END:DAYLIGHT
END:VTIMEZONE
BEGIN:VEVENT
UID:calendar.40060.field_fc_date.0@culturefly.org
DTSTAMP:20260421T153141Z
ATTACH;FMTTYPE=image/jpeg:https://culturefly.org/sites/default/files/event-
 image/22726%20-%20BALTIMORE.jpg
CATEGORIES:Performance,Nightlife
CREATED:20260207T171236Z
DESCRIPTION:*Black Ass Comedy is back with the Winter Tour stop in Baltimor
 e — join us  at The Manor for a night of stand-up and a room full of energ
 y.*\n\n*Featuring:* @comedianmar @therealkennyblacc @theo_bossed_up  @crea
 mthecomedian @myssbrownsugga\n\n*About the show:* Black Ass Comedy is a to
 uring live comedy experience highlighting standout  comedic talent and cre
 ating a fun, communal night out. Expect crowd  interaction, surprises, 
 and a lineup that keeps the room moving.
DTSTART;TZID=America/New_York:20260227T190000
DTEND;TZID=America/New_York:20260227T213000
LAST-MODIFIED:20260210T171357Z
LOCATION:The Manor, 924 North Charles Street, Baltimore, MD
SUMMARY:Black Ass Comedy
URL:https://www.instagram.com/blackasscomedy/
X-GBCA-NID:40060
END:VEVENT
END:VCALENDAR
