BEGIN:VCALENDAR
VERSION:2.0
PRODID:-//Date iCal v2.14-dev//NONSGML kigkonsult.se iCalcreator 2.16.6//
METHOD:PUBLISH
X-WR-CALNAME;VALUE=TEXT:Greater Baltimore Cultural Alliance
BEGIN:VTIMEZONE
TZID:America/New_York
BEGIN:STANDARD
DTSTART:20261101T020000
TZOFFSETFROM:-0400
TZOFFSETTO:-0500
TZNAME:EST
END:STANDARD
BEGIN:DAYLIGHT
DTSTART:20260308T020000
TZOFFSETFROM:-0500
TZOFFSETTO:-0400
TZNAME:EDT
END:DAYLIGHT
END:VTIMEZONE
BEGIN:VEVENT
UID:calendar.40051.field_fc_date.0@culturefly.org
DTSTAMP:20260420T102437Z
ATTACH;FMTTYPE=image/jpeg:https://culturefly.org/sites/default/files/event-
 image/Birthday26_1500x650-1024x444.jpg
CATEGORIES:Activities
CREATED:20260205T175024Z
DESCRIPTION:Get ready for a birthday celebration like no other! Help us cel
 ebrate the  B&O’s 199th birthday and the wonder of American railroading. I
 t is going to  be a day full of fun and festivities—from a fun jewelry mak
 ing workshop,  B&O Unlocked tours, a special display, cupcakes, crafts
 , a special gift, and  more!
DTSTART;TZID=America/New_York:20260228T100000
DTEND;TZID=America/New_York:20260228T160000
GEO:+39.285422;-76.632745
LAST-MODIFIED:20260210T171402Z
LOCATION:B&O Railroad Museum, 901 W. Pratt Street, Baltimore, MD
SUMMARY:The B&O Birthday Bash
URL:https://www.borail.org/events/birthday-bash/
X-GBCA-NID:40051
END:VEVENT
END:VCALENDAR
