BEGIN:VCALENDAR
VERSION:2.0
PRODID:-//Date iCal v2.14-dev//NONSGML kigkonsult.se iCalcreator 2.16.6//
METHOD:PUBLISH
X-WR-CALNAME;VALUE=TEXT:Greater Baltimore Cultural Alliance
BEGIN:VTIMEZONE
TZID:America/New_York
BEGIN:STANDARD
DTSTART:20261101T020000
TZOFFSETFROM:-0400
TZOFFSETTO:-0500
TZNAME:EST
END:STANDARD
BEGIN:DAYLIGHT
DTSTART:20270314T020000
TZOFFSETFROM:-0500
TZOFFSETTO:-0400
TZNAME:EDT
END:DAYLIGHT
END:VTIMEZONE
BEGIN:VEVENT
UID:calendar.39989.field_fc_date.0@culturefly.org
DTSTAMP:20260421T213839Z
ATTACH;FMTTYPE=image/jpeg:https://culturefly.org/sites/default/files/event-
 image/IMG_5199%20%281%29.jpg
CATEGORIES:Lectures/ Workshops,Activities
CREATED:20260126T204723Z
DESCRIPTION:This summer, Baltimore Clayworks is offering TEN WEEKS of full
 -day camps for  children ages 6-9, 9-12 and half-day camps for teens ages
  12-16! All camps  are for one week and run Monday through Friday. Class f
 ees include all  materials and firing. Students registering for 2 or more 
 summer camps or  families enrolling 2 or more children are eligible to rec
 eive a discount  Please, phone 410-578-1919 x210 to apply discount.
DTSTART;TZID=America/New_York:20260615T100000
DTEND;TZID=America/New_York:20260821T170000
GEO:+39.367622;-76.653195
LAST-MODIFIED:20260127T160517Z
LOCATION:Baltimore Clayworks, 5707 Smith Avenue, Baltimore, MD
SUMMARY:Baltimore Clayworks Summer Camp
URL:https://canvas.baltimoreclayworks.org/classes
X-GBCA-NID:39989
END:VEVENT
END:VCALENDAR
