BEGIN:VCALENDAR
VERSION:2.0
PRODID:-//Date iCal v2.14-dev//NONSGML kigkonsult.se iCalcreator 2.16.6//
METHOD:PUBLISH
X-WR-CALNAME;VALUE=TEXT:Greater Baltimore Cultural Alliance
BEGIN:VTIMEZONE
TZID:America/New_York
BEGIN:STANDARD
DTSTART:20261101T020000
TZOFFSETFROM:-0400
TZOFFSETTO:-0500
TZNAME:EST
END:STANDARD
BEGIN:DAYLIGHT
DTSTART:20270314T020000
TZOFFSETFROM:-0500
TZOFFSETTO:-0400
TZNAME:EDT
END:DAYLIGHT
END:VTIMEZONE
BEGIN:VEVENT
UID:calendar.39985.field_fc_date.0@culturefly.org
DTSTAMP:20260425T133810Z
ATTACH;FMTTYPE=image/jpeg:https://culturefly.org/sites/default/files/event-
 image/Kevin%20Brewster_2.jpg
CATEGORIES:Performance,Nightlife
CREATED:20260124T015815Z
DESCRIPTION:Kevin Brewster & Black Renaissance presents Alto Madness at An 
 die Musik Live featuring Tim Green & Justin Mendez! Two  shows at 7:30pm a
 nd 9pm!\n\nKevin Brewster, alto Tim Green, alto Justin Mendez, alto Lut
 her S. Allison, piano Jonathon Muir-Cotton, bass Joshua Watkins, drums
DTSTART;TZID=America/New_York:20260425T193000
DTEND;TZID=America/New_York:20260425T210000
LAST-MODIFIED:20260126T160204Z
LOCATION:An Die Musik Live, 409 North Charles Street Second Floor, Baltim
 ore, MD
SUMMARY:Kevin Brewster Residency Monthly Series - Alto Madness
URL:https://www.instantseats.com/?fuseaction=home.artist&VenueID=321&artist
 id=38779
X-GBCA-NID:39985
END:VEVENT
BEGIN:VEVENT
UID:calendar.39985.field_fc_date.0@culturefly.org
DTSTAMP:20260425T133810Z
ATTACH;FMTTYPE=image/jpeg:https://culturefly.org/sites/default/files/event-
 image/Kevin%20Brewster_2.jpg
CATEGORIES:Performance,Nightlife
CREATED:20260124T015815Z
DESCRIPTION:Kevin Brewster & Black Renaissance presents Alto Madness at An 
 die Musik Live featuring Tim Green & Justin Mendez! Two  shows at 7:30pm a
 nd 9pm!\n\nKevin Brewster, alto Tim Green, alto Justin Mendez, alto Lut
 her S. Allison, piano Jonathon Muir-Cotton, bass Joshua Watkins, drums
DTSTART;TZID=America/New_York:20260425T210000
DTEND;TZID=America/New_York:20260425T223000
LAST-MODIFIED:20260126T160204Z
LOCATION:An Die Musik Live, 409 North Charles Street Second Floor, Baltim
 ore, MD
SUMMARY:Kevin Brewster Residency Monthly Series - Alto Madness
URL:https://www.instantseats.com/?fuseaction=home.artist&VenueID=321&artist
 id=38779
X-GBCA-NID:39985
END:VEVENT
END:VCALENDAR
