BEGIN:VCALENDAR
VERSION:2.0
PRODID:-//Date iCal v2.14-dev//NONSGML kigkonsult.se iCalcreator 2.16.6//
METHOD:PUBLISH
X-WR-CALNAME;VALUE=TEXT:Greater Baltimore Cultural Alliance
BEGIN:VTIMEZONE
TZID:America/New_York
BEGIN:STANDARD
DTSTART:20261101T020000
TZOFFSETFROM:-0400
TZOFFSETTO:-0500
TZNAME:EST
END:STANDARD
BEGIN:DAYLIGHT
DTSTART:20270314T020000
TZOFFSETFROM:-0500
TZOFFSETTO:-0400
TZNAME:EDT
END:DAYLIGHT
END:VTIMEZONE
BEGIN:VEVENT
UID:calendar.39973.field_fc_date.0@culturefly.org
DTSTAMP:20260422T004617Z
ATTACH;FMTTYPE=image/jpeg:https://culturefly.org/sites/default/files/event-
 image/20260501_THEA_amani_teaser.jpg
CATEGORIES:Performance
CREATED:20260122T192820Z
DESCRIPTION:by a.k. payne, directed by Nicole Brewer\n\nWhen Amani's mothe
 r dies, the world shakes. Her father vows to make it to  outer space, wh
 ere there are no gangs to take his love's life, no prisons to  take Black
  boys' best years. Amani grows up building a rocket ship with her  father.
  As she moves into adulthood, Amani seeks her voice and her own  dreams. 
 Will Amani make it to the 'moon'?\n\nProceeds benefit the TU Foundation.
DTSTART;TZID=America/New_York:20260501T193000
DTEND;TZID=America/New_York:20260509T203000
GEO:+39.394267;-76.610518
LAST-MODIFIED:20260126T160204Z
LOCATION:Towson University Center for the Arts, Studio Theatre, CA 3060,
  8000 York Road, Towson University, Towson, MD
RRULE:FREQ=WEEKLY;UNTIL=20260510T075959Z;INTERVAL=1;BYDAY=SU,TH,FR,SA;WKST=
 SU
SUMMARY:Amani
URL;TYPE=URI:https://culturefly.org/calendar/event/39973/amani
X-GBCA-NID:39973
END:VEVENT
END:VCALENDAR
