BEGIN:VCALENDAR
VERSION:2.0
PRODID:-//Date iCal v2.14-dev//NONSGML kigkonsult.se iCalcreator 2.16.6//
METHOD:PUBLISH
X-WR-CALNAME;VALUE=TEXT:Greater Baltimore Cultural Alliance
BEGIN:VTIMEZONE
TZID:America/New_York
BEGIN:STANDARD
DTSTART:20261101T020000
TZOFFSETFROM:-0400
TZOFFSETTO:-0500
TZNAME:EST
END:STANDARD
BEGIN:DAYLIGHT
DTSTART:20260308T020000
TZOFFSETFROM:-0500
TZOFFSETTO:-0400
RDATE:20270314T020000
TZNAME:EDT
END:DAYLIGHT
END:VTIMEZONE
BEGIN:VEVENT
UID:calendar.39968.field_fc_date.0@culturefly.org
DTSTAMP:20260420T200821Z
ATTACH;FMTTYPE=image/jpeg:https://culturefly.org/sites/default/files/event-
 image/ArcisSaxophonQuartett_Credit_arcisvisuals_2.jpg
CATEGORIES:Performance
CREATED:20260122T180023Z
DESCRIPTION:Experience the vibrant, dynamic sound of one of Europe's most 
 celebrated  chamber ensembles. This special concert welcomes the criticall
 y acclaimed  Arcis Saxophone Quartet—our distinguished classical music res
 idency guest  artists for an evening where the saxophone transcends its tr
 aditional genres,  revealing its profound capacity for classical lyricism
 , emotional depth, and  technical brilliance.
DTSTART;TZID=America/New_York:20260329T190000
DTEND;TZID=America/New_York:20260329T200000
GEO:+39.393623;-76.607109
LAST-MODIFIED:20260126T160210Z
LOCATION:Towson University Center for the Arts, Harold J. Kaplan Concert H
 all, CA 3042, 8000 York Rd, Towson, MD
SUMMARY:Peggy and Yale Gordon Residency Arcis Saxophone Quartet Concert
URL;TYPE=URI:https://culturefly.org/calendar/event/39968/peggy-and-yale-gor
 don-residency-arcis-saxophone-quartet-concert
X-GBCA-NID:39968
END:VEVENT
END:VCALENDAR
