BEGIN:VCALENDAR
VERSION:2.0
PRODID:-//Date iCal v2.14-dev//NONSGML kigkonsult.se iCalcreator 2.16.6//
METHOD:PUBLISH
X-WR-CALNAME;VALUE=TEXT:Greater Baltimore Cultural Alliance
BEGIN:VTIMEZONE
TZID:America/New_York
BEGIN:STANDARD
DTSTART:20261101T020000
TZOFFSETFROM:-0400
TZOFFSETTO:-0500
TZNAME:EST
END:STANDARD
BEGIN:DAYLIGHT
DTSTART:20260308T020000
TZOFFSETFROM:-0500
TZOFFSETTO:-0400
RDATE:20270314T020000
TZNAME:EDT
END:DAYLIGHT
END:VTIMEZONE
BEGIN:VEVENT
UID:calendar.39961.field_fc_date.0@culturefly.org
DTSTAMP:20260420T105347Z
ATTACH;FMTTYPE=image/jpeg:https://culturefly.org/sites/default/files/event-
 image/Oct_21_0.jpg
CATEGORIES:Performance
CREATED:20260121T152032Z
DESCRIPTION:As part of the America 250 Celebration, the Columbia Pro Canta
 re chorus will  commemorate America’s natural landscapes and beautiful vis
 tas at its  concert, “American Landscapes,” Sunday, March 15, 2026, 4
  pm at First  Evangelical Lutheran Church, 3604 Chatham Road, Ellicott C
 ity. Under the  direction of Laura Lee Fischer, the program will include 
 a salute to the  Great Lakes by Gwyneth Walker, “Northwest Passage” by Z.
  Randall Stroope,  and “Song of the Open Road” by Norman Dello Joio.
DTSTART;TZID=America/New_York:20260315T160000
DTEND;TZID=America/New_York:20260315T173000
GEO:+39.272129;-76.833303
LAST-MODIFIED:20260126T160210Z
LOCATION:First Evangelical Lutheran Church, 3604 Chatham Road, Ellicott C
 ity, MD
SUMMARY:Columbia Pro Cantare: American Landscapes
URL:http://www.procantare.org
X-GBCA-NID:39961
END:VEVENT
END:VCALENDAR
