BEGIN:VCALENDAR
VERSION:2.0
PRODID:-//Date iCal v2.14-dev//NONSGML kigkonsult.se iCalcreator 2.16.6//
METHOD:PUBLISH
X-WR-CALNAME;VALUE=TEXT:Greater Baltimore Cultural Alliance
BEGIN:VTIMEZONE
TZID:America/New_York
BEGIN:STANDARD
DTSTART:20261101T020000
TZOFFSETFROM:-0400
TZOFFSETTO:-0500
TZNAME:EST
END:STANDARD
BEGIN:DAYLIGHT
DTSTART:20260308T020000
TZOFFSETFROM:-0500
TZOFFSETTO:-0400
RDATE:20270314T020000
TZNAME:EDT
END:DAYLIGHT
END:VTIMEZONE
BEGIN:VEVENT
UID:calendar.39937.field_fc_date.0@culturefly.org
DTSTAMP:20260420T084822Z
ATTACH;FMTTYPE=image/png:https://culturefly.org/sites/default/files/event-i
 mage/ASG_3.31.26%20Jenni%20Hirsch.png
CATEGORIES:Lectures/ Workshops
CREATED:20260119T222517Z
DESCRIPTION:*/Luis Barragan & Mexican Modernist Architecture and Space/* wi
 th Jennie  Hirsch, Professor of Modern and Contemporary Art at Maryland I
 nstitute  College of Art
DTSTART;TZID=America/New_York:20260331T133000
DTEND;TZID=America/New_York:20260331T150000
LAST-MODIFIED:20260120T163917Z
LOCATION:The Woman's Club of Roland Park, 4500 Roland Avenue, Baltimore,
  MD
SUMMARY:Luis Barragan & Mexican Modernist Architecture and Space
URL:https://www.artseminargroup.org/events/2026/3/31/luis-barragan-amp-mexi
 can-modernist-architecture-and-space
X-GBCA-NID:39937
END:VEVENT
END:VCALENDAR
