BEGIN:VCALENDAR
VERSION:2.0
PRODID:-//Date iCal v2.14-dev//NONSGML kigkonsult.se iCalcreator 2.16.6//
METHOD:PUBLISH
X-WR-CALNAME;VALUE=TEXT:Greater Baltimore Cultural Alliance
BEGIN:VTIMEZONE
TZID:America/New_York
BEGIN:STANDARD
DTSTART:20261101T020000
TZOFFSETFROM:-0400
TZOFFSETTO:-0500
TZNAME:EST
END:STANDARD
BEGIN:DAYLIGHT
DTSTART:20260308T020000
TZOFFSETFROM:-0500
TZOFFSETTO:-0400
RDATE:20270314T020000
TZNAME:EDT
END:DAYLIGHT
END:VTIMEZONE
BEGIN:VEVENT
UID:calendar.39936.field_fc_date.0@culturefly.org
DTSTAMP:20260421T170026Z
ATTACH;FMTTYPE=image/jpeg:https://culturefly.org/sites/default/files/event-
 image/ASG_3.24.2026%20Gilbert_rohde.jpg
CATEGORIES:Lectures/ Workshops
CREATED:20260119T222313Z
DESCRIPTION:*/American Art Deco/* with Ernest Liotti, Performer, Educator
 , and Lecturer
DTSTART;TZID=America/New_York:20260324T133000
DTEND;TZID=America/New_York:20260324T150000
LAST-MODIFIED:20260120T163917Z
LOCATION:The Woman's Club of Roland Park, 4500 Roland Avenue, Baltimore,
  MD
SUMMARY:American Art Deco
URL:https://www.artseminargroup.org/online-payment/registration/lecture-ame
 rican-art-deco
X-GBCA-NID:39936
END:VEVENT
END:VCALENDAR
