BEGIN:VCALENDAR
VERSION:2.0
PRODID:-//Date iCal v2.14-dev//NONSGML kigkonsult.se iCalcreator 2.16.6//
METHOD:PUBLISH
X-WR-CALNAME;VALUE=TEXT:Greater Baltimore Cultural Alliance
BEGIN:VTIMEZONE
TZID:Africa/Abidjan
BEGIN:STANDARD
DTSTART:19120101T000000
TZOFFSETFROM:-001608
TZOFFSETTO:+0000
TZNAME:GMT
END:STANDARD
END:VTIMEZONE
BEGIN:VEVENT
UID:calendar.39903.field_fc_date.0@culturefly.org
DTSTAMP:20260420T164204Z
ATTACH;FMTTYPE=image/jpeg:https://culturefly.org/sites/default/files/event-
 image/prism_20200306_NS_0001.jpg
CATEGORIES:Performance
CREATED:20260114T171409Z
DESCRIPTION:Join us for an unforgettable evening of music as the winners of
  the 2026  Sanborn Competition take the stage! Featuring outstanding perfo
 rmances from  both the Piano and Vocal Divisions, this concert celebrates
  the exceptional  artistry and talent of our student musicians. Come and b
 e inspired by an  evening of beautiful music, passion, and excellence.
DTSTART;TZID=Africa/Abidjan:20260324T230000
DTEND;TZID=Africa/Abidjan:20260325T000000
LAST-MODIFIED:20260114T202542Z
LOCATION:Towson University Center For The Arts, Recital Hall CA 3066 , 77
 00 Osler Drive, Towson, MD
SUMMARY:Sanborn Winners Recital
URL;TYPE=URI:https://culturefly.org/calendar/event/39903/sanborn-winners-re
 cital
X-GBCA-NID:39903
END:VEVENT
END:VCALENDAR
