BEGIN:VCALENDAR
VERSION:2.0
PRODID:-//Date iCal v2.14-dev//NONSGML kigkonsult.se iCalcreator 2.16.6//
METHOD:PUBLISH
X-WR-CALNAME;VALUE=TEXT:Greater Baltimore Cultural Alliance
BEGIN:VTIMEZONE
TZID:America/New_York
BEGIN:STANDARD
DTSTART:20261101T020000
TZOFFSETFROM:-0400
TZOFFSETTO:-0500
TZNAME:EST
END:STANDARD
BEGIN:DAYLIGHT
DTSTART:20270314T020000
TZOFFSETFROM:-0500
TZOFFSETTO:-0400
TZNAME:EDT
END:DAYLIGHT
END:VTIMEZONE
BEGIN:VEVENT
UID:calendar.39880.field_fc_date.0@culturefly.org
DTSTAMP:20260422T034103Z
ATTACH;FMTTYPE=image/jpeg:https://culturefly.org/sites/default/files/event-
 image/Behzod%20Abduraimov%202_0.jpg
CATEGORIES:Performance
CREATED:20260109T153200Z
DESCRIPTION:A CMM favorite returns!
DTSTART;TZID=America/New_York:20260418T193000
DTEND;TZID=America/New_York:20260418T213000
GEO:+39.214008;-76.879429
LAST-MODIFIED:20260109T174957Z
LOCATION:Horowitz Center Smith Theatre, 10901 Little Patuxent Parkway, Co
 lumbia, MD
SUMMARY:Behzod Abduraimov, piano
URL:https://chambermusicmaryland.org/concerts/2025-2026/behzod-abduraimov-p
 iano/
X-GBCA-NID:39880
END:VEVENT
END:VCALENDAR
