BEGIN:VCALENDAR
VERSION:2.0
PRODID:-//Date iCal v2.14-dev//NONSGML kigkonsult.se iCalcreator 2.16.6//
METHOD:PUBLISH
X-WR-CALNAME;VALUE=TEXT:Greater Baltimore Cultural Alliance
BEGIN:VTIMEZONE
TZID:America/New_York
BEGIN:STANDARD
DTSTART:20261101T020000
TZOFFSETFROM:-0400
TZOFFSETTO:-0500
TZNAME:EST
END:STANDARD
BEGIN:DAYLIGHT
DTSTART:20260308T020000
TZOFFSETFROM:-0500
TZOFFSETTO:-0400
TZNAME:EDT
END:DAYLIGHT
END:VTIMEZONE
BEGIN:VEVENT
UID:calendar.39866.field_fc_date.0@culturefly.org
DTSTAMP:20260421T184408Z
ATTACH;FMTTYPE=image/png:https://culturefly.org/sites/default/files/event-i
 mage/February%2027%2C%207%20pm.png
CATEGORIES:Performance,Nightlife
CREATED:20260108T204700Z
DESCRIPTION:Highwire Improv presents live, unscripted comedy in Highlandto
 wn, featuring  bold performers, fast laughs, and stories you can only s
 ee once.\n\nFast laughs, sharp turns, and zero planning. This is spontan
 eous comedy  driven by quick thinking, big personalities, and fearless c
 hoices.\n\n**Important Screws:** You don't know what screws are important 
 until you take  some out. Prepare for laughs from the most surprising plac
 es.
DTSTART;TZID=America/New_York:20260227T190000
DTEND;TZID=America/New_York:20260227T200000
LAST-MODIFIED:20260109T175002Z
LOCATION:The Highwire Center, 400 S. Conkling Street, Baltimore, MD
SUMMARY:Storytime Comedy: Improv at The Highwire Center!
URL:https://www.eventbrite.com/e/storytime-comedy-improv-at-the-highwire-ce
 nter-tickets-1979058694831?aff=ebdsoporgprofile
X-GBCA-NID:39866
END:VEVENT
END:VCALENDAR
