BEGIN:VCALENDAR
VERSION:2.0
PRODID:-//Date iCal v2.14-dev//NONSGML kigkonsult.se iCalcreator 2.16.6//
METHOD:PUBLISH
X-WR-CALNAME;VALUE=TEXT:Greater Baltimore Cultural Alliance
BEGIN:VTIMEZONE
TZID:America/New_York
BEGIN:STANDARD
DTSTART:20261101T020000
TZOFFSETFROM:-0400
TZOFFSETTO:-0500
TZNAME:EST
END:STANDARD
BEGIN:DAYLIGHT
DTSTART:20270314T020000
TZOFFSETFROM:-0500
TZOFFSETTO:-0400
TZNAME:EDT
END:DAYLIGHT
END:VTIMEZONE
BEGIN:VEVENT
UID:calendar.39849.field_fc_date.0@culturefly.org
DTSTAMP:20260420T163856Z
ATTACH;FMTTYPE=image/jpeg:https://culturefly.org/sites/default/files/event-
 image/Talent_Award_Winners_Convocation.JPG
CATEGORIES:Performance
CREATED:20260108T192911Z
DESCRIPTION:The Department of Music features the winners of the Talent Awar
 d Competition  in our annual scholarship recital sponsored by the TU Found
 ation.
DTSTART;TZID=America/New_York:20260421T110000
DTEND;TZID=America/New_York:20260421T120000
GEO:+39.393623;-76.607109
LAST-MODIFIED:20260109T175006Z
LOCATION:Towson University Center for the Arts, Harold J. Kaplan Concert H
 all, CA 3042, 8000 York Rd, Towson, MD
SUMMARY:Talent Award Winners Convocation
URL;TYPE=URI:https://culturefly.org/calendar/event/39849/talent-award-winne
 rs-convocation
X-GBCA-NID:39849
END:VEVENT
END:VCALENDAR
