BEGIN:VCALENDAR
VERSION:2.0
PRODID:-//Date iCal v2.14-dev//NONSGML kigkonsult.se iCalcreator 2.16.6//
METHOD:PUBLISH
X-WR-CALNAME;VALUE=TEXT:Greater Baltimore Cultural Alliance
BEGIN:VTIMEZONE
TZID:America/New_York
BEGIN:STANDARD
DTSTART:20261101T020000
TZOFFSETFROM:-0400
TZOFFSETTO:-0500
TZNAME:EST
END:STANDARD
BEGIN:DAYLIGHT
DTSTART:20260308T020000
TZOFFSETFROM:-0500
TZOFFSETTO:-0400
RDATE:20270314T020000
TZNAME:EDT
END:DAYLIGHT
END:VTIMEZONE
BEGIN:VEVENT
UID:calendar.39842.field_fc_date.0@culturefly.org
DTSTAMP:20260419T122141Z
ATTACH;FMTTYPE=image/jpeg:https://culturefly.org/sites/default/files/event-
 image/ArcisSaxophonQuartett_Credit_arcisvisuals_4.jpg
CATEGORIES:Lectures/ Workshops
CREATED:20260108T180048Z
DESCRIPTION:Join us for a dynamic and inspiring masterclass with the intern
 ationally  acclaimed Arcis Saxophone Quartet, renowned for their virtuosi
 c artistry,  innovative programming, and engaging stage presence. As par
 t of the Peggy and  Yale Gordon Trust classical guest artist residency, t
 he members of Arcis will  work directly with Towson University's student s
 axophone quartets.\n\nThis masterclass provides a unique opportunity for s
 tudents and audience  members alike to experience the artistry and pedagog
 y of one of Europe’s  leading chamber ensembles.
DTSTART;TZID=America/New_York:20260330T180000
DTEND;TZID=America/New_York:20260330T190000
GEO:+39.393623;-76.607109
LAST-MODIFIED:20260109T175006Z
LOCATION:Towson University Center for the Arts, Harold J. Kaplan Concert H
 all, CA 3042, 8000 York Rd, Towson, MD
SUMMARY:Gordon Classical Guest Artist Residency Masterclass with Arcis Saxo
 phone  Quartet
URL;TYPE=URI:https://culturefly.org/calendar/event/39842/gordon-classical-g
 uest-artist-residency-masterclass-arcis-saxophone-quartet
X-GBCA-NID:39842
END:VEVENT
END:VCALENDAR
