BEGIN:VCALENDAR
VERSION:2.0
PRODID:-//Date iCal v2.14-dev//NONSGML kigkonsult.se iCalcreator 2.16.6//
METHOD:PUBLISH
X-WR-CALNAME;VALUE=TEXT:Greater Baltimore Cultural Alliance
BEGIN:VTIMEZONE
TZID:America/New_York
BEGIN:STANDARD
DTSTART:20261101T020000
TZOFFSETFROM:-0400
TZOFFSETTO:-0500
TZNAME:EST
END:STANDARD
BEGIN:DAYLIGHT
DTSTART:20270314T020000
TZOFFSETFROM:-0500
TZOFFSETTO:-0400
TZNAME:EDT
END:DAYLIGHT
END:VTIMEZONE
BEGIN:VEVENT
UID:calendar.39818.field_fc_date.0@culturefly.org
DTSTAMP:20260422T003028Z
ATTACH;FMTTYPE=image/jpeg:https://culturefly.org/sites/default/files/event-
 image/ruin_0.jpg
CATEGORIES:Lectures/ Workshops
CREATED:20260107T185959Z
DESCRIPTION:Ruin is a Philadelphia-based printmaker, shadow puppeteer, an
 d paper-cut  artist. His work oscillates between the poles of apocalyptic 
 anxieties and  utopian yearnings, with an emphasis on empathy, transcend
 ence and obsessive  detail. He frequently works collaboratively with music
 ians, theater  performers, other artists and activist campaigns. In addi
 tion to performing  widely, he is a founding member of the international 
 Justseeds Artists'  Cooperative, and co-author of the book Paths Toward U
 topia: Graphic  Explorations of Everyday Anarchism.
DTSTART;TZID=America/New_York:20260423T183000
DTEND;TZID=America/New_York:20260423T193000
GEO:+39.394267;-76.610518
LAST-MODIFIED:20260109T175013Z
LOCATION:Towson University Center for the Arts, Art Lecture Hall, CA 2032
 , 8000 York Road, Towson University, Towson, MD
SUMMARY:Lecture ǀ Artist Erik Ruin
URL;TYPE=URI:https://culturefly.org/calendar/event/39818/lecture-%C7%80-art
 ist-erik-ruin
X-GBCA-NID:39818
END:VEVENT
END:VCALENDAR
