BEGIN:VCALENDAR
VERSION:2.0
PRODID:-//Date iCal v2.14-dev//NONSGML kigkonsult.se iCalcreator 2.16.6//
METHOD:PUBLISH
X-WR-CALNAME;VALUE=TEXT:Greater Baltimore Cultural Alliance
BEGIN:VTIMEZONE
TZID:America/New_York
BEGIN:STANDARD
DTSTART:20261101T020000
TZOFFSETFROM:-0400
TZOFFSETTO:-0500
TZNAME:EST
END:STANDARD
BEGIN:DAYLIGHT
DTSTART:20260308T020000
TZOFFSETFROM:-0500
TZOFFSETTO:-0400
RDATE:20270314T020000
TZNAME:EDT
END:DAYLIGHT
END:VTIMEZONE
BEGIN:VEVENT
UID:calendar.39815.field_fc_date.0@culturefly.org
DTSTAMP:20260421T133108Z
ATTACH;FMTTYPE=image/jpeg:https://culturefly.org/sites/default/files/event-
 image/FUCILE_puglionesi_fucile.jpg
CATEGORIES:Performance
CREATED:20260107T181140Z
DESCRIPTION:Carrie Fucile, TU lecturer in Digital Art +Design and her coll
 aborator,  writer and historian Alicia Puglionesi, present a live perfor
 mance that  explores the story of descending into a cave with spoken word\
 , live sound,  and projected video as a live performance. They ask: Why d
 o we put faith in  false promises and what is it like to be a rock?
DTSTART;TZID=America/New_York:20260326T183000
DTEND;TZID=America/New_York:20260326T193000
LAST-MODIFIED:20260109T175013Z
LOCATION:Art Lecture Hall (CA 2032), TU Center for the Arts, 1 Fine Arts 
 Drive, Towson, MD
SUMMARY:Performance ǀ Circles In Absolute Night
URL;TYPE=URI:https://culturefly.org/calendar/event/39815/performance-%C7%80
 -circles-absolute-night
X-GBCA-NID:39815
END:VEVENT
END:VCALENDAR
