BEGIN:VCALENDAR
VERSION:2.0
PRODID:-//Date iCal v2.14-dev//NONSGML kigkonsult.se iCalcreator 2.16.6//
METHOD:PUBLISH
X-WR-CALNAME;VALUE=TEXT:Greater Baltimore Cultural Alliance
BEGIN:VTIMEZONE
TZID:America/New_York
BEGIN:STANDARD
DTSTART:20261101T020000
TZOFFSETFROM:-0400
TZOFFSETTO:-0500
TZNAME:EST
END:STANDARD
BEGIN:DAYLIGHT
DTSTART:20260308T020000
TZOFFSETFROM:-0500
TZOFFSETTO:-0400
RDATE:20270314T020000
TZNAME:EDT
END:DAYLIGHT
END:VTIMEZONE
BEGIN:VEVENT
UID:calendar.39805.field_fc_date.0@culturefly.org
DTSTAMP:20260421T132510Z
ATTACH;FMTTYPE=image/jpeg:https://culturefly.org/sites/default/files/event-
 image/Image%20Landscape_2.jpg
CATEGORIES:Other
CREATED:20260104T033952Z
DESCRIPTION:*Meet the artist in a relaxed, casual environment. Big Bang Ba
 by transforms  ancestral divinity, folklore, and science into a radiant 
 universe of light,  color, and controlled chaos. At its center are fanta
 stical feminine figures  creating universes and experiencing their own div
 inity. Inspired by  Afro-Dominican spiritual traditions of “carrying a mys
 tery,” as well as  Native Taíno Zemi goddesses, LUSMERLIN celebrates the
  gift of spiritual  presence and creation in women.*
DTSTART;TZID=America/New_York:20260315T140000
DTEND;TZID=America/New_York:20260315T170000
LAST-MODIFIED:20260106T170828Z
LOCATION:Horowitz Visual and Performing Arts Center, 10901 Little Patuxent
  Parkway, Columbia, MD
SUMMARY:Big Bang Baby Closing Hangout with LUSMERLIN
URL:www.lusmerlin.com
X-GBCA-NID:39805
END:VEVENT
END:VCALENDAR
