BEGIN:VCALENDAR
VERSION:2.0
PRODID:-//Date iCal v2.14-dev//NONSGML kigkonsult.se iCalcreator 2.16.6//
METHOD:PUBLISH
X-WR-CALNAME;VALUE=TEXT:Greater Baltimore Cultural Alliance
BEGIN:VTIMEZONE
TZID:Africa/Abidjan
BEGIN:STANDARD
DTSTART:19120101T000000
TZOFFSETFROM:-001608
TZOFFSETTO:+0000
TZNAME:GMT
END:STANDARD
END:VTIMEZONE
BEGIN:VEVENT
UID:calendar.39741.field_fc_date.0@culturefly.org
DTSTAMP:20260424T050004Z
ATTACH;FMTTYPE=image/jpeg:https://culturefly.org/sites/default/files/event-
 image/Winning%20playwrights%20receive%20their%20flowers%20onstage%20%28L-R
 _%20Nalani%20Simpson%2C%20Maddy%20Hahn%2C%20AV%20Smith%2C%20Aamir%20Snead%
 2C%20Quinn%20Guilfoyle%2C%20Garrett%20King%2C%20Kayden%20Onyewu%2C%20Dylan
 %20Barron%29.jpg
CATEGORIES:Performance,Activities
CREATED:20251217T185348Z
DESCRIPTION:The Young Playwrights Festival is our longest running learning 
 program that  encourages expression and creativity in students across the 
 state. Each  spring, we invite and receive hundreds of play submissions f
 rom participants  in our residencies, and many more from students across 
 Maryland. Playwrights  in grades K-12 submit their short plays, and each 
 year up to six plays are  chosen to receive a professional production prod
 uced by Baltimore Center  Stage.
DTSTART;TZID=Africa/Abidjan:20260509T160000
DTEND;TZID=Africa/Abidjan:20260509T180000
GEO:+39.298155;-76.613241
LAST-MODIFIED:20260106T200434Z
LOCATION:Baltimore Center Stage, 700 N. Calvert Street, Baltimore, MD
SUMMARY:Young Playwrights Festival (YPF)
URL:centerstage.org
X-GBCA-NID:39741
END:VEVENT
END:VCALENDAR
